Workbook

Sheet Base de datos
A1: # | B1: EVALUADOR | C1: REGIÓN | D1: ENTE | E1: Mpio | F1: Nombre del Plan | G1: # Indicadores de Resultado | H1: # Ind Resultado efectivos y mas que efectivos 2020 | I1: % Ind Resultado efectivos y mas que efectivos 2021 | J1: # Ind Resultado efectivos y mas que efectivos 2021 | K1: % Ind Resultado efectivos y mas que efectivos 2022 | L1: # Ind Resultado efectivos y mas que efectivos 2022 | M1: % Ind Resultado efectivos y mas que efectivos 2023 | N1: # Total Ind de Producto | O1: # Programados 2020 | P1: # Sobresalientes 2020 | Q1: % Sobresalientes 2020 | R1: # Programados 2021 | S1: # Sobresalientes 2021 | T1: % Sobresalientes 2021 | U1: # Programados 2022 | V1: # Sobresalientes 2022 | W1: % Sobresalientes 2022 | X1: Eficacia PA 2020 | Y1: Eficiencia PA 2020 | Z1: Cumplimiento PA 2020 | AA1: Rango PA 2020 | AB1: Eficacia PA 2021 | AC1: Eficiencia PA 2021 | AD1: Cumplimiento PA 2021 | AE1: Rango PA 2021 | AF1: Eficacia PA 2022 | AG1: Eficiencia PA 2022 | AH1: Cumplimiento PA 2022 | AI1: Rango PA 2022 | AJ1: Eficacia PD 2020 | AK1: Eficiencia PD 2020 | AL1: Cumplimiento PD 2020 | AM1: Eficacia PD 2021 | AN1: Eficiencia PD 2021 | AO1: Cumplimiento PD 2021 | AP1: Eficacia PD 2022 | AQ1: Eficiencia PD 2022 | AR1: Cump PD 2022 | AS1: Efectividad 2020 | AT1: Efectividad 2021 | AU1: Efectividad 2022 | AV1: Plan Plurianual de Inversiones | AW1: Apropiado 2020 | AX1: Obligado 2020 | AY1: % ejec Ptal 2020 | AZ1: % ejec Acuml del Ppi 2020 | BA1: Apropiado 2021 | BB1: Obligado 2021 | BC1: % ejec Ptal 2021 | BD1: % ejec Acuml del Ppi 2021 | BE1: Apropiado 2022 | BF1: Obligado 2022 | BG1: % ejec Ptal 2022 | BH1: % ejec Acuml del Ppi 2022
A2: 1 | B2: Alberto Torres Marín | C2: Bajo Cauca | D2: Tarazá | E2: Tarazá/Antioquia | F2: SEMBRANDO BIENESTAR CON EL AMIGO DE SIEMPRE. | G2: 36 | H2: 4 | I2: 11.111111 | J2: 4 | K2: 11.111111 | L2: 4 | M2: 11.111111 | N2: 147 | O2: 94 | P2: 82 | Q2: 87.234043 | R2: 124 | S2: 90 | T2: 72.580645 | U2: 122 | V2: 102 | W2: 83.606557 | X2: 99.502503 | Y2: 99.165429 | Z2: 99.367673 | AA2: Sobresaliente | AB2: 97.557129 | AC2: 96.093276 | AD2: 96.971588 | AE2: Sobresaliente | AF2: 99.820429 | AG2: 99.70614 | AH2: 99.774713 | AI2: Sobresaliente | AJ2: 23.371735 | AK2: 26.808423 | AL2: 24.74641 | AM2: 52.460746 | AN2: 54.474799 | AO2: 53.266367 | AP2: 73.928344 | AQ2: 74.092529 | AR2: 73.994018 | AS2: 1.2283394 | AT2: 1.2283394 | AU2: 1.2283394 | AV2: 156391434882 | AW2: 62269476540 | AX2: 55611502007 | AY2: 89.307804 | AZ2: 35.559174 | BA2: 52279942480 | BB2: 48830829236 | BC2: 93.402607 | BD2: 66.782641 | BE2: 1.5247714e+11 | BF2: 5.065961e+10 | BG2: 33.224396 | BH2: 99.17547
A3: =+A2+1 -> 2 | B3: Alberto Torres Marín | C3: Bajo Cauca | D3: Zaragoza | E3: Zaragoza/Antioquia | F3: Unidos Construimos | G3: 89 | H3: 20 | I3: 22.47191 | J3: 22 | K3: 24.719101 | L3: 32 | M3: 35.955056 | N3: 297 | O3: 125 | P3: 125 | Q3: 100 | R3: 264 | S3: 215 | T3: 81.439394 | U3: 203 | V3: 198 | W3: 97.536946 | X3: 99.98167 | Y3: 99.968816 | Z3: 99.976529 | AA3: Sobresaliente | AB3: 92.220325 | AC3: 89.610223 | AD3: 91.176284 | AE3: Sobresaliente | AF3: 99.983548 | AG3: 99.974241 | AH3: 99.979825 | AI3: Sobresaliente | AJ3: 17.121443 | AK3: 27.890659 | AL3: 21.429129 | AM3: 42.418047 | AN3: 57.434063 | AO3: 48.424454 | AP3: 68.111758 | AQ3: 82.038356 | AR3: 73.682397 | AS3: -36.015024 | AT3: -30.667602 | AU3: 27.810587 | AV3: 2.1813974e+11 | AW3: 25979191598 | AX3: 25969104918 | AY3: 99.961174 | AZ3: 11.904802 | BA3: 56887436910 | BB3: 56887436910 | BC3: 100 | BD3: 37.983241 | BE3: 47450734156 | BF3: 47468734156 | BG3: 100.03793 | BH3: 59.743941
A4: =+A3+1 -> 3 | B4: Alberto Torres Marín | C4: Magdalena Medio | D4: Puerto Triunfo | E4: Puerto triunfo/Antioquia | F4: "HACER MÁS ES POSIBLE" | G4: 36 | H4: 2 | I4: 5.5555556 | J4: 2 | K4: 5.5555556 | L4: 2 | M4: 5.5555556 | N4: 219 | O4: 101 | P4: 98 | Q4: 97.029703 | R4: 188 | S4: 151 | T4: 80.319149 | U4: 160 | V4: 145 | W4: 90.625 | X4: 43.471274 | Y4: 43.457086 | Z4: 43.465599 | AA4: Bajo | AB4: 91.271365 | AC4: 88.037652 | AD4: 89.97788 | AE4: Sobresaliente | AF4: 74.052464 | AG4: 60.982439 | AH4: 68.824454 | AI4: Medio | AJ4: 10.705634 | AK4: 12.961312 | AL4: 11.607905 | AM4: 39.235867 | AN4: 45.363884 | AO4: 41.687074 | AP4: 63.679428 | AQ4: 61.317365 | AR4: 62.734602 | AS4: 2.6296613 | AT4: 2.6296613 | AU4: 2.6296613 | AV4: 1.201868e+11 | AW4: 42334646831 | AX4: 18458546831 | AY4: 43.601514 | AZ4: 15.358215 | BA4: 2.7436132e+10 | BB4: 2.7436132e+10 | BC4: 100 | BD4: 38.186123 | BE4: 2.5896266e+10 | BF4: 2.5896266e+10 | BG4: 100 | BH4: 59.732804
A5: =+A4+1 -> 4 | B5: Alberto Torres Marín | C5: Nordeste | D5: Vegachí | E5: Vegachí/Antioquia | F5: VEGACHÍ, UN PROYECTO DE TODOS. ¡HAGÁMOSLO JUNTOS! | G5: 80 | H5: 20 | I5: 25 | J5: 19 | K5: 23.75 | L5: 38 | M5: 47.5 | N5: 345 | O5: 269 | P5: 205 | Q5: 76.208178 | R5: 282 | S5: 180 | T5: 63.829787 | U5: 266 | V5: 245 | W5: 92.105263 | X5: 95.778624 | Y5: 91.600161 | Z5: 94.107239 | AA5: Sobresaliente | AB5: 83.882219 | AC5: 63.838356 | AD5: 75.864673 | AE5: Satisfactorio | AF5: 98.641199 | AG5: 96.514601 | AH5: 97.79056 | AI5: Sobresaliente | AJ5: 15.915667 | AK5: 22.889964 | AL5: 18.705386 | AM5: 33.525764 | AN5: 37.544196 | AO5: 35.133137 | AP5: 52.773324 | AQ5: 79.77499 | AR5: 63.573991 | AS5: 6.4577091 | AT5: 9.8777905 | AU5: 86.082388 | AV5: 118026551120 | AW5: 14407421709 | AX5: 13968260330 | AY5: 96.951839 | AZ5: 11.834846 | BA5: 15785230576 | BB5: 21121001893 | BC5: 133.8023 | BD5: 29.729973 | BE5: 24287935570 | BF5: 26861432870 | BG5: 110.59578 | BH5: 52.488779
A6: =+A5+1 -> 5 | B6: Alberto Torres Marín | C6: Norte | D6: Angostura | E6: Angostura/Antioquia | F6: Angostura, un nuevo comienzo para el progreso | G6: 49 | H6: 1 | I6: 2.0408163 | J6: 1 | K6: 2.0408163 | L6: 1 | M6: 2.0408163 | N6: 231 | O6: 120 | P6: 116 | Q6: 96.666667 | R6: 180 | S6: 96 | T6: 53.333333 | U6: 169 | V6: 147 | W6: 86.982249 | X6: 99.908424 | Y6: 99.902747 | Z6: 99.906153 | AA6: Sobresaliente | AB6: 98.386412 | AC6: 95.75819 | AD6: 97.335123 | AE6: Sobresaliente | AF6: 97.514286 | AG6: 96.852113 | AH6: 97.249417 | AI6: Sobresaliente | AJ6: 23.016021 | AK6: 29.643954 | AL6: 25.667194 | AM6: 43.177671 | AN6: 40.985175 | AO6: 42.300673 | AP6: 67.378748 | AQ6: 56.426947 | AR6: 62.998028 | AS6: 25.255231 | AT6: 26.079048 | AU6: 27.397155 | AV6: 53991083226 | AW6: 1.6343535e+10 | AX6: 1.3469582e+10 | AY6: 82.415351 | AZ6: 24.947789 | BA6: 7.9877517e+10 | BB6: 7.7392525e+10 | BC6: 96.888997 | BD6: 168.29095 | BE6: 2.2277321e+10 | BF6: 2.5816099e+10 | BG6: 115.88511 | BH6: 216.10644
A7: =+A6+1 -> 6 | B7: Alberto Torres Marín | C7: Norte | D7: Toledo | E7: Toledo/Antioquia | F7: Toledo construye su futuro desde el campo | G7: 156 | H7: 32 | I7: 20.512821 | J7: 37 | K7: 23.717949 | L7: 43 | M7: 27.564103 | N7: 188 | O7: 188 | P7: 104 | Q7: 55.319149 | R7: 187 | S7: 119 | T7: 63.636364 | U7: 187 | V7: 158 | W7: 84.491979 | X7: 99.487061 | Y7: 99.318789 | Z7: 99.419752 | AA7: Sobresaliente | AB7: 98.641763 | AC7: 98.439117 | AD7: 98.560705 | AE7: Sobresaliente | AF7: 91.654508 | AG7: 88.873094 | AH7: 90.541943 | AI7: Sobresaliente | AJ7: 14.072308 | AK7: 36.03678 | AL7: 22.858097 | AM7: 30.920995 | AN7: 50.518538 | AO7: 38.760012 | AP7: 63.959722 | AQ7: 66.6865 | AR7: 65.050434 | AS7: -101.41178 | AT7: -38.130045 | AU7: -90.504623 | AV7: 4.260237e+10 | AW7: 8.1801776e+09 | AX7: 7.2888445e+09 | AY7: 89.103744 | AZ7: 17.109012 | BA7: 7.1016794e+09 | BB7: 6.6483966e+09 | BC7: 93.617245 | BD7: 32.714708 | BE7: 9.8110725e+09 | BF7: 9.8110725e+09 | BG7: 100 | BH7: 55.744114
A8: =+A7+1 -> 7 | B8: Alberto Torres Marín | C8: Occidente | D8: Olaya | E8: Olaya/Antioquia | F8: Unidos Por Olaya | G8: 76 | H8: 13 | I8: 17.105263 | J8: 13 | K8: 17.105263 | L8: 13 | M8: 17.105263 | N8: 289 | O8: 180 | P8: 128 | Q8: 71.111111 | R8: 244 | S8: 181 | T8: 74.180328 | U8: 260 | V8: 229 | W8: 88.076923 | X8: 75.992603 | Y8: 74.983742 | Z8: 75.589059 | AA8: Satisfactorio | AB8: 49.023462 | AC8: 44.497653 | AD8: 47.213138 | AE8: Bajo | AF8: 77.025994 | AG8: 76.971425 | AH8: 77.004167 | AI8: Satisfactorio | AJ8: 17.051221 | AK8: 42.593066 | AL8: 27.267959 | AM8: 44.267834 | AN8: 56.361805 | AO8: 49.105423 | AP8: 71.594759 | AQ8: 72.347623 | AR8: 71.895905 | AS8: 20.577656 | AT8: 20.577656 | AU8: 20.577656 | AV8: 26338519367 | AW8: 2775001152 | AX8: 2817982846 | AY8: 101.54889 | AZ8: 10.699094 | BA8: 17125060261 | BB8: 17124463992 | BC8: 99.996518 | BD8: 75.715899 | BE8: 23230378338 | BF8: 23210458359 | BG8: 99.91425 | BH8: 163.83953
A9: =+A8+1 -> 8 | B9: Alberto Torres Marín | C9: Occidente | D9: Sopetrán | E9: Sopetrán/Antioquia | F9: PACTO POR SOPETRÁN CON CALIDAD DE VIDA | G9: 51 | H9: 6 | I9: 11.764706 | J9: 12 | K9: 23.529412 | L9: 12 | M9: 23.529412 | N9: 325 | O9: 238 | P9: 238 | Q9: 100 | R9: 278 | S9: 276 | T9: 99.280576 | U9: 303 | V9: 286 | W9: 94.389439 | X9: 99.128089 | Y9: 99.128089 | Z9: 99.128089 | AA9: Sobresaliente | AB9: 95.559557 | AC9: 95.559557 | AD9: 95.559557 | AE9: Sobresaliente | AF9: 96.070534 | AG9: 96.037301 | AH9: 96.057241 | AI9: Sobresaliente | AJ9: 21.828953 | AK9: 41.292347 | AL9: 29.614311 | AM9: 46.980397 | AN9: 57.382315 | AO9: 51.141164 | AP9: 70.755055 | AQ9: 71.516147 | AR9: 71.059492 | AS9: 2.2205477 | AT9: 47.368812 | AU9: 59.93946 | AV9: 73792603729 | AW9: 1.8829853e+10 | AX9: 1.4150359e+10 | AY9: 75.148535 | AZ9: 19.17585 | BA9: 3.3655852e+10 | BB9: 2.1083863e+10 | BC9: 62.645457 | BD9: 47.747633 | BE9: 36219712656 | BF9: 28925639990 | BG9: 79.861594 | BH9: 86.946196
A10: =+A9+1 -> 9 | B10: Alberto Torres Marín | C10: Oriente | D10: Sonsón | E10: Sonson/Antioquia | F10: Juntos Construyendo Futuro | G10: 55 | H10: 12 | I10: 21.818182 | J10: 12 | K10: 21.818182 | L10: 19 | M10: 34.545455 | N10: 211 | O10: 167 | P10: 138 | Q10: 82.634731 | R10: 192 | S10: 151 | T10: 78.645833 | U10: 179 | V10: 167 | W10: 93.296089 | X10: 96.856923 | Y10: 95.405611 | Z10: 96.276398 | AA10: Sobresaliente | AB10: 94.657582 | AC10: 93.554982 | AD10: 94.216542 | AE10: Sobresaliente | AF10: 97.199011 | AG10: 96.796055 | AH10: 97.037829 | AI10: Sobresaliente | AJ10: 22.040434 | AK10: 34.649372 | AL10: 27.084009 | AM10: 48.254076 | AN10: 56.232277 | AO10: 51.445356 | AP10: 73.641239 | AQ10: 77.59453 | AR10: 75.222555 | AS10: -127.18453 | AT10: -202.06944 | AU10: -729.0633 | AV10: 198909078210 | AW10: 4.2485031e+10 | AX10: 4.2063318e+10 | AY10: 99.007385 | AZ10: 21.147008 | BA10: 49646895926 | BB10: 49646895926 | BC10: 100 | BD10: 46.1066 | BE10: 6.4657159e+10 | BF10: 5.3477067e+10 | BG10: 82.708655 | BH10: 72.991782
A11: =+A10+1 -> 10 | B11: Alberto Torres Marín | C11: Suroeste | D11: Amagá | E11: Amagá/Antioquia | F11: Juntos por la Equidad | G11: 43 | H11: 11 | I11: 25.581395 | J11: 11 | K11: 25.581395 | L11: 30 | M11: 69.767442 | N11: 90 | O11: 90 | P11: 75 | Q11: 83.333333 | R11: 90 | S11: 76 | T11: 84.444444 | U11: 90 | V11: 80 | W11: 88.888889 | X11: 87.192424 | Y11: 80.191896 | Z11: 84.392213 | AA11: Sobresaliente | AB11: 94.992609 | AC11: 91.321933 | AD11: 93.524338 | AE11: Sobresaliente | AF11: 98.793548 | AG11: 98.898811 | AH11: 98.835653 | AI11: Sobresaliente | AJ11: 15.343402 | AK11: 61.185721 | AL11: 33.68033 | AM11: 35.788447 | AN11: 44.187779 | AO11: 39.148179 | AP11: 62.439455 | AQ11: 72.836379 | AR11: 66.598224 | AS11: 17.309865 | AT11: 17.309865 | AU11: 76.42143 | AV11: 84822150000 | AW11: 2.1773326e+10 | AX11: 1.8499714e+10 | AY11: 84.965036 | AZ11: 21.810004 | BA11: 28261912560 | BB11: 28134912560 | BC11: 99.550632 | BD11: 54.979303 | BE11: 60568736211 | BF11: 45696734487 | BG11: 75.446076 | BH11: 108.85289
A12: =+A11+1 -> 11 | B12: Alberto Torres Marín | C12: Suroeste | D12: Betania | E12: Betania/Antioquia | F12: Betania tiene futuro | G12: 56 | H12: 11 | I12: 19.642857 | J12: 11 | K12: 19.642857 | L12: 11 | M12: 19.642857 | N12: 247 | O12: 205 | P12: 169 | Q12: 82.439024 | R12: 217 | S12: 213 | T12: 98.156682 | U12: 187 | V12: 126 | W12: 67.379679 | X12: 99.355805 | Y12: 99.725345 | Z12: 99.503621 | AA12: Sobresaliente | AB12: 93.305388 | AC12: 93.305388 | AD12: 93.305388 | AE12: Sobresaliente | AF12: 95.506066 | AG12: 92.010627 | AH12: 94.10789 | AI12: Sobresaliente | AJ12: 22.245366 | AK12: 34.502392 | AL12: 27.148177 | AM12: 47.682389 | AN12: 57.588509 | AO12: 51.644837 | AP12: 70.018028 | AQ12: 71.116211 | AR12: 70.457301 | AS12: 11.217978 | AT12: 11.217978 | AU12: 11.217978 | AV12: 4.4785385e+10 | AW12: 1.2594897e+10 | AX12: 11587257559 | AY12: 91.999619 | AZ12: 25.872855 | BA12: 1.6734207e+10 | BB12: 1.2437579e+10 | BC12: 74.324282 | BD12: 53.644368 | BE12: 12983986800 | BF12: 12983986800 | BG12: 100 | BH12: 82.635939
A13: =+A12+1 -> 12 | B13: Alberto Torres Marín | C13: Suroeste | D13: Pueblo Rico | E13: Pueblorrico/Antioquia | F13: Bien por Pueblorrico | G13: 91 | H13: 18 | I13: 19.78022 | J13: 18 | K13: 19.78022 | L13: 18 | M13: 19.78022 | N13: 129 | O13: 54 | P13: 30 | Q13: 55.555556 | R13: 94 | S13: 63 | T13: 67.021277 | U13: 80 | V13: 18 | W13: 22.5 | X13: 77.852987 | Y13: 77.747318 | Z13: 77.810719 | AA13: Satisfactorio | AB13: 92.305481 | AC13: 92.286453 | AD13: 92.29787 | AE13: Sobresaliente | AF13: 43.81452 | AG13: 59.162764 | AH13: 49.953818 | AI13: Bajo | AJ13: 72.594786 | AK13: 75.022044 | AL13: 73.565689 | AM13: 85.588373 | AN13: 88.478174 | AO13: 86.744293 | AP13: 86.123809 | AQ13: 88.636571 | AR13: 87.128913 | AS13: 37.952801 | AT13: 37.952801 | AU13: 37.952801 | AV13: 85882300464 | AW13: 9.8631339e+09 | AX13: 1.018627e+10 | AY13: 103.2762 | AZ13: 11.860732 | BA13: 14601364495 | BB13: 1.0967117e+10 | BC13: 75.110219 | BD13: 24.630671 | BE13: 1.7061205e+10 | BF13: 4.208819e+09 | BG13: 24.668943 | BH13: 29.531353
A14: =+A13+1 -> 13 | B14: Alberto Torres Marín | C14: Suroeste | D14: Tarso | E14: Tarso/Antioquia | F14: Bienestar y Progreso para todos | G14: 24 | H14: 0 | I14: 0 | J14: 0 | K14: 0 | L14: 2 | M14: 8.3333333 | N14: 292 | O14: 220 | P14: 118 | Q14: 53.636364 | R14: 268 | S14: 230 | T14: 85.820896 | U14: 256 | V14: 177 | W14: 69.140625 | X14: 53.34908 | Y14: 52.320006 | Z14: 52.93745 | AA14: Bajo | AB14: 78.284741 | AC14: 77.905879 | AD14: 78.133196 | AE14: Satisfactorio | AF14: 67.014494 | AG14: 66.620335 | AH14: 66.856831 | AI14: Medio | AJ14: 33.140279 | AK14: 40.015972 | AL14: 35.890556 | AM14: 62.104978 | AN14: 64.684342 | AO14: 63.136723 | AP14: 73.795005 | AQ14: 74.035583 | AR14: 73.891236 | AS14: 25 | AT14: 30 | AU14: 42.261024 | AV14: 5.4036453e+10 | AW14: 10746314670 | AX14: 10746314670 | AY14: 100 | AZ14: 19.887158 | BA14: 12579495443 | BB14: 12578549904 | BC14: 99.992483 | BD14: 43.165055 | BE14: 1.3663552e+10 | BF14: 1.2417525e+10 | BG14: 90.880654 | BH14: 66.144959
... A43: =+A42+1 -> 42 | B43: Dora Patricia Uribe | C43: Bajo Cauca | D43: Cáceres | E43: Cáceres/Antioquia | F43: Cáceres Somos Todos | G43: 36 | H43: 19 | I43: 52.777778 | J43: 19 | K43: 52.777778 | L43: 20 | M43: 55.555556 | N43: 197 | O43: 106 | P43: 103 | Q43: 97.169811 | R43: 154 | S43: 142 | T43: 92.207792 | U43: 146 | V43: 101 | W43: 69.178082 | X43: 96.186748 | Y43: 96.533204 | Z43: 96.32533 | AA43: Sobresaliente | AB43: 98.219787 | AC43: 97.417711 | AD43: 97.898956 | AE43: Sobresaliente | AF43: 99.025345 | AG43: 98.938736 | AH43: 98.990702 | AI43: Sobresaliente | AJ43: 22.795311 | AK43: 65.703746 | AL43: 39.958685 | AM43: 47.914114 | AN43: 77.099299 | AO43: 59.588188 | AP43: 68.910205 | AQ43: 78.321799 | AR43: 72.674842 | AS43: 26042.739 | AT43: 48688.033 | AU43: 56576.287 | AV43: 1.5160368e+11 | AW43: 39030590510 | AX43: 33869100218 | AY43: 86.775782 | AZ43: 22.340553 | BA43: 37435185293 | BB43: 37435185293 | BC43: 100 | BD43: 47.033349 | BE43: 47771938918 | BF43: 47673413778 | BG43: 99.793759 | BH43: 78.479429
A44: =+A43+1 -> 43 | B44: Dora Patricia Uribe | C44: Bajo Cauca | D44: Caucasia | E44: Caucasia/Antioquia | F44: EVOLUCIÓN | G44: 64 | H44: 17 | I44: 26.5625 | J44: 15 | K44: 23.4375 | L44: 16 | M44: 25 | N44: 251 | O44: 0 | P44: 0 | Q44: #DIV/0! | R44: 156 | S44: 153 | T44: 98.076923 | U44: 236 | V44: 133 | W44: 56.355932 | X44: 0 | Y44: 0 | Z44: 0 | AA44: Crítico | AB44: 99.954832 | AC44: 99.813959 | AD44: 99.898483 | AE44: Sobresaliente | AF44: 96.771771 | AG44: 96.194173 | AH44: 96.540732 | AI44: Sobresaliente | AJ44: 0 | AK44: 0 | AL44: 0 | AM44: 20.896279 | AN44: 43.80457 | AO44: 30.059595 | AP44: 57.058988 | AQ44: 44.593858 | AR44: 52.072936 | AS44: 70.476716 | AT44: 63.114844 | AU44: 74.490336 | AV44: 2.2401892e+11 | AW44: 0 | AX44: 0 | AY44: 0 | AZ44: 0 | BA44: 110096612201 | BB44: 103577063398 | BC44: 94.078338 | BD44: 46.235855 | BE44: 116543729590 | BF44: 109863215913 | BG44: 94.267805 | BH44: 95.277792
A45: =+A44+1 -> 44 | B45: Dora Patricia Uribe | C45: Magdalena Medio | D45: Caracolí | E45: Caracolí/Antioquia | F45: POR LA HUELLA DEL DESARROLLO | G45: 233 | H45: 45 | I45: 19.313305 | J45: 78 | K45: 33.476395 | L45: 89 | M45: 38.197425 | N45: 330 | O45: 190 | P45: 190 | Q45: 100 | R45: 269 | S45: 269 | T45: 100 | U45: 270 | V45: 269 | W45: 99.62963 | X45: 100 | Y45: 100 | Z45: 100 | AA45: Sobresaliente | AB45: 99.993082 | AC45: 99.984898 | AD45: 99.989808 | AE45: Sobresaliente | AF45: 99.928828 | AG45: 99.815028 | AH45: 99.883308 | AI45: Sobresaliente | AJ45: 19.436112 | AK45: 20.875208 | AL45: 20.01175 | AM45: 44.023156 | AN45: 45.642465 | AO45: 44.67088 | AP45: 69.615945 | AQ45: 71.008237 | AR45: 70.172862 | AS45: 134.12705 | AT45: 154.09709 | AU45: 107.75947 | AV45: 21362868025 | AW45: 4087687549 | AX45: 4059003549 | AY45: 99.298283 | AZ45: 19.000274 | BA45: 5637614914 | BB45: 5629206234 | BC45: 99.850847 | BD45: 45.350698 | BE45: 5673694504 | BF45: 5670488504 | BG45: 99.943494 | BH45: 71.894365
A46: =+A45+1 -> 45 | B46: Dora Patricia Uribe | C46: Nordeste | D46: Yalí | E46: Yalí/Antioquia | F46: Más Oportunidades para Todos | G46: 93 | H46: 28 | I46: 30.107527 | J46: 28 | K46: 30.107527 | L46: 28 | M46: 30.107527 | N46: 416 | O46: 271 | P46: 128 | Q46: 47.232472 | R46: 302 | S46: 299 | T46: 99.006623 | U46: 280 | V46: 257 | W46: 91.785714 | X46: 75.174536 | Y46: 75.046257 | Z46: 75.123224 | AA46: Satisfactorio | AB46: 99.898115 | AC46: 99.883593 | AD46: 99.892306 | AE46: Sobresaliente | AF46: 94.610134 | AG46: 92.271173 | AH46: 93.67455 | AI46: Sobresaliente | AJ46: 17.374064 | AK46: 32.824869 | AL46: 23.554386 | AM46: 31.139302 | AN46: 46.174643 | AO46: 37.153438 | AP46: 53.012653 | AQ46: 61.730256 | AR46: 56.499694 | AS46: 631.67764 | AT46: 631.67764 | AU46: 631.67764 | AV46: 8.0698863e+10 | AW46: 8.8661191e+09 | AX46: 8.8661191e+09 | AY46: 100 | AZ46: 10.986672 | BA46: 9816972601 | BB46: 9816972601 | BC46: 100 | BD46: 23.151617 | BE46: 1.32588e+10 | BF46: 1.3240875e+10 | BG46: 99.864807 | BH46: 39.559376
A47: =+A46+1 -> 46 | B47: Dora Patricia Uribe | C47: Norte | D47: Campamento | E47: Campamento/Antioquia | F47: Campamento Próspero, Sostenible e Incluyente | G47: 25 | H47: 1 | I47: 4 | J47: 1 | K47: 4 | L47: 14 | M47: 56 | N47: 106 | O47: 91 | P47: 89 | Q47: 97.802198 | R47: 96 | S47: 87 | T47: 90.625 | U47: 93 | V47: 91 | W47: 97.849462 | X47: 99.762087 | Y47: 99.699407 | Z47: 99.737015 | AA47: Sobresaliente | AB47: 98.513695 | AC47: 99.321119 | AD47: 98.836664 | AE47: Sobresaliente | AF47: 99.760127 | AG47: 99.999437 | AH47: 99.855851 | AI47: Sobresaliente | AJ47: 25.752898 | AK47: 28.113835 | AL47: 26.697273 | AM47: 48.670707 | AN47: 49.595297 | AO47: 49.040543 | AP47: 73.678222 | AQ47: 66.213509 | AR47: 70.692337 | AS47: 2.9633931 | AT47: 2.9633931 | AU47: -159.06175 | AV47: 38926740036 | AW47: 9590031674 | AX47: 9590031674 | AY47: 100 | AZ47: 24.636103 | BA47: 17364499433 | BB47: 13053730459 | BC47: 75.174816 | BD47: 58.170199 | BE47: 16865191836 | BF47: 14353132801 | BG47: 85.105067 | BH47: 95.042367
A48: =+A47+1 -> 47 | B48: Dora Patricia Uribe | C48: Norte | D48: Car. Del Príncipe | E48: Carolina/Antioquia | F48: Carolina del Príncipe, compromiso de todos | G48: 56 | H48: 29 | I48: 51.785714 | J48: 29 | K48: 51.785714 | L48: 29 | M48: 51.785714 | N48: 199 | O48: 140 | P48: 122 | Q48: 87.142857 | R48: 170 | S48: 170 | T48: 100 | U48: 186 | V48: 186 | W48: 100 | X48: 93.658531 | Y48: 93.658531 | Z48: 93.658531 | AA48: Sobresaliente | AB48: 83.509971 | AC48: 83.509971 | AD48: 83.509971 | AE48: Sobresaliente | AF48: 96.799011 | AG48: 96.936963 | AH48: 96.854192 | AI48: Sobresaliente | AJ48: 16.399417 | AK48: 29.699052 | AL48: 21.719271 | AM48: 42.147722 | AN48: 63.749621 | AO48: 50.788482 | AP48: 68.174688 | AQ48: 74.71401 | AR48: 70.790417 | AS48: 48.130997 | AT48: 56.080682 | AU48: 66.143324 | AV48: 42869769266 | AW48: 8.0011147e+09 | AX48: 7.5998906e+09 | AY48: 94.985397 | AZ48: 17.727855 | BA48: 1.3565419e+10 | BB48: 9.3961287e+09 | BC48: 69.265303 | BD48: 39.645698 | BE48: 17979562624 | BF48: 1.3106451e+10 | BG48: 72.896384 | BH48: 70.21841
A49: =+A48+1 -> 48 | B49: Dora Patricia Uribe | C49: Norte | D49: Donmatías | E49: Donmatías/Antioquia | F49: Donmatías Imparable | G49: 34 | H49: 3 | I49: 8.8235294 | J49: 3 | K49: 8.8235294 | L49: 3 | M49: 8.8235294 | N49: 74 | O49: 74 | P49: 60 | Q49: 81.081081 | R49: 74 | S49: 63 | T49: 85.135135 | U49: 74 | V49: 68 | W49: 91.891892 | X49: 93.86488 | Y49: 96.723448 | Z49: 95.008307 | AA49: Sobresaliente | AB49: 95.686786 | AC49: 92.196758 | AD49: 94.290774 | AE49: Sobresaliente | AF49: 98.622999 | AG49: 97.764568 | AH49: 98.279627 | AI49: Sobresaliente | AJ49: 14.737286 | AK49: 53.352825 | AL49: 30.183501 | AM49: 33.724614 | AN49: 49.698585 | AO49: 40.114202 | AP49: 58.516296 | AQ49: 81.996533 | AR49: 67.908391 | AS49: 11.088822 | AT49: 11.088822 | AU49: 18.132223 | AV49: 71035500000 | AW49: 1.6422316e+10 | AX49: 1.1035362e+10 | AY49: 67.197353 | AZ49: 15.534996 | BA49: 13192200000 | BB49: 13192200000 | BC49: 100 | BD49: 34.106273 | BE49: 36006331297 | BF49: 24530535010 | BG49: 68.128393 | BH49: 68.639056
A50: =+A49+1 -> 49 | B50: Dora Patricia Uribe | C50: Occidente | D50: Abriaquí | E50: Abriaquí/Antioquia | F50: Abriaquí, con Sentido de Pertenencia | G50: 94 | H50: 27 | I50: 28.723404 | J50: 30 | K50: 31.914894 | L50: 27 | M50: 28.723404 | N50: 108 | O50: 54 | P50: 45 | Q50: 83.333333 | R50: 71 | S50: 58 | T50: 81.690141 | U50: 97 | V50: 32 | W50: 32.989691 | X50: 97.527185 | Y50: 97.340636 | Z50: 97.452565 | AA50: Sobresaliente | AB50: 98.781161 | AC50: 98.535594 | AD50: 98.682934 | AE50: Sobresaliente | AF50: 71.077673 | AG50: 69.424648 | AH50: 70.416463 | AI50: Satisfactorio | AJ50: 12.937677 | AK50: 17.368538 | AL50: 14.710021 | AM50: 32.958466 | AN50: 39.079716 | AO50: 35.406966 | AP50: 51.509766 | AQ50: 59.624871 | AR50: 54.755808 | AS50: 19178.846 | AT50: 19258.929 | AU50: 19273.842 | AV50: 19909057352 | AW50: 3090741054 | AX50: 2534299381 | AY50: 81.996497 | AZ50: 12.729379 | BA50: 3714938888 | BB50: 3714938888 | BC50: 100 | BD50: 31.388921 | BE50: 5115320484 | BF50: 3855919777 | BG50: 75.379828 | BH50: 50.756587
A51: =+A50+1 -> 50 | B51: Dora Patricia Uribe | C51: Occidente | D51: Caicedo | E51: Caicedo/Antioquia | F51: Caicedo, un campo de oportunidades | G51: 60 | H51: 7 | I51: 11.666667 | J51: 7 | K51: 11.666667 | L51: 18 | M51: 30 | N51: 262 | O51: 165 | P51: 147 | Q51: 89.090909 | R51: 188 | S51: 163 | T51: 86.702128 | U51: 159 | V51: 145 | W51: 91.194969 | X51: 98.100776 | Y51: 97.576874 | Z51: 97.891215 | AA51: Sobresaliente | AB51: 98.312659 | AC51: 97.863261 | AD51: 98.1329 | AE51: Sobresaliente | AF51: 87.324295 | AG51: 84.989687 | AH51: 86.390451 | AI51: Sobresaliente | AJ51: 19.855286 | AK51: 21.858339 | AL51: 20.656507 | AM51: 41.06904 | AN51: 41.97286 | AO51: 41.430568 | AP51: 62.537797 | AQ51: 56.565832 | AR51: 60.149011 | AS51: 0.96310655 | AT51: 5.6691688 | AU51: 79.050706 | AV51: 57935607519 | AW51: 12359396797 | AX51: 12359396798 | AY51: 100 | AZ51: 21.332989 | BA51: 13702526068 | BB51: 13702526068 | BC51: 100 | BD51: 44.984292 | BE51: 19621421464 | BF51: 18807299464 | BG51: 95.850851 | BH51: 77.446711
A52: =+A51+1 -> 51 | B52: Dora Patricia Uribe | C52: Oriente | D52: Argelia | E52: Argelia/Antioquia | F52: El Desarrollo es "Pa´todos" | G52: 79 | H52: 10 | I52: 12.658228 | J52: 11 | K52: 13.924051 | L52: 7 | M52: 8.8607595 | N52: 119 | O52: 33 | P52: 6 | Q52: 18.181818 | R52: 38 | S52: 30 | T52: 78.947368 | U52: 101 | V52: 96 | W52: 95.049505 | X52: 58.435568 | Y52: 56.487434 | Z52: 57.656315 | AA52: Bajo | AB52: 98.145624 | AC52: 97.274406 | AD52: 97.797137 | AE52: Sobresaliente | AF52: 99.623016 | AG52: 99.560391 | AH52: 99.597966 | AI52: Sobresaliente | AJ52: 0.36893037 | AK52: 1.1783304 | AL52: 0.69269037 | AM52: 4.3259529 | AN52: 4.4679013 | AO52: 4.3827322 | AP52: 44.230131 | AQ52: 43.946972 | AR52: 44.116867 | AS52: -34.065767 | AT52: -297.1593 | AU52: 78.286122 | AV52: 4.362564e+10 | AW52: 76771575 | AX52: 76771575 | AY52: 100 | AZ52: 0.17597811 | BA52: 593653581 | BB52: 593653581 | BC52: 100 | BD52: 1.5367687 | BE52: 17936115459 | BF52: 17936115459 | BG52: 100 | BH52: 42.65047
A53: =+A52+1 -> 52 | B53: Dora Patricia Uribe | C53: Oriente | D53: Cocorná | E53: Cocorná/Antioquia | F53: Cocorná Es Esperanza | G53: 56 | H53: 14 | I53: 25 | J53: 14 | K53: 25 | L53: 14 | M53: 25 | N53: 243 | O53: 161 | P53: 139 | Q53: 86.335404 | R53: 212 | S53: 156 | T53: 73.584906 | U53: 213 | V53: 173 | W53: 81.220657 | X53: 98.955952 | Y53: 99.021344 | Z53: 98.982109 | AA53: Sobresaliente | AB53: 94.862193 | AC53: 94.293823 | AD53: 94.634845 | AE53: Sobresaliente | AF53: 97.341792 | AG53: 96.67405 | AH53: 97.074695 | AI53: Sobresaliente | AJ53: 22.485274 | AK53: 63.762837 | AL53: 38.996299 | AM53: 46.581716 | AN53: 74.793693 | AO53: 57.866507 | AP53: 73.742515 | AQ53: 80.7307 | AR53: 76.537789 | AS53: 60.217631 | AT53: 60.217631 | AU53: 60.217631 | AV53: 7.2024349e+10 | AW53: 1.9524114e+10 | AX53: 17332832586 | AY53: 88.776541 | AZ53: 24.06524 | BA53: 1.6945097e+10 | BB53: 1.4166165e+10 | BC53: 83.600382 | BD53: 43.733819 | BE53: 28396060040 | BF53: 27312496909 | BG53: 96.184107 | BH53: 81.655018
A54: =+A53+1 -> 53 | B54: Dora Patricia Uribe | C54: Oriente | D54: Concepción | E54: Concepción/Antioquia | F54: Concepción, un proyecto de todos | G54: 23 | H54: 21 | I54: 91.304348 | J54: 21 | K54: 91.304348 | L54: 21 | M54: 91.304348 | N54: 100 | O54: 77 | P54: 52 | Q54: 67.532468 | R54: 85 | S54: 76 | T54: 89.411765 | U54: 98 | V54: 63 | W54: 64.285714 | X54: 73.396804 | Y54: 73.193349 | Z54: 73.315422 | AA54: Satisfactorio | AB54: 95.535055 | AC54: 95.516458 | AD54: 95.527616 | AE54: Sobresaliente | AF54: 94.50752 | AG54: 93.298395 | AH54: 94.02387 | AI54: Sobresaliente | AJ54: 20.221588 | AK54: 43.726029 | AL54: 29.623364 | AM54: 42.662697 | AN54: 56.599914 | AO54: 48.237584 | AP54: 65.943657 | AQ54: 74.778321 | AR54: 69.477522 | AS54: 61.213549 | AT54: 61.213549 | AU54: 61.213549 | AV54: 30951994795 | AW54: 4434118036 | AX54: 4139204273 | AY54: 93.348987 | AZ54: 13.372981 | BA54: 9114097183 | BB54: 8973462307 | BC54: 98.456952 | BD54: 42.364528 | BE54: 7.2161975e+09 | BF54: 7.2161975e+09 | BG54: 100 | BH54: 65.678688
A55: =+A54+1 -> 54 | B55: Dora Patricia Uribe | C55: Suroeste | D55: Andes | E55: Andes/Antioquia | F55: Alianza por el Desarrollo Humano | G55: 66 | H55: 8 | I55: 12.121212 | J55: 14 | K55: 21.212121 | L55: 19 | M55: 28.787879 | N55: 102 | O55: 42 | P55: 25 | Q55: 59.52381 | R55: 87 | S55: 35 | T55: 40.229885 | U55: 88 | V55: 39 | W55: 44.318182 | X55: 94.776339 | Y55: 92.650474 | Z55: 93.925993 | AA55: Sobresaliente | AB55: 72.867267 | AC55: 68.413359 | AD55: 71.085704 | AE55: Satisfactorio | AF55: 88.117248 | AG55: 82.642777 | AH55: 85.92746 | AI55: Sobresaliente | AJ55: 15.143131 | AK55: 17.778739 | AL55: 16.197374 | AM55: 42.893037 | AN55: 52.429091 | AO55: 46.707459 | AP55: 67.675708 | AQ55: 73.353751 | AR55: 69.946925 | AS55: 15.063454 | AT55: 38.522611 | AU55: 61.943324 | AV55: 222971109383 | AW55: 36347422103 | AX55: 36347422103 | AY55: 100 | AZ55: 16.301404 | BA55: 5.8521339e+10 | BB55: 5.8521339e+10 | BC55: 100 | BD55: 42.547557 | BE55: 5.4390182e+10 | BF55: 5.4390182e+10 | BG55: 100 | BH55: 66.940934
A56: =+A55+1 -> 55 | B56: Dora Patricia Uribe | C56: Suroeste | D56: Caramanta | E56: Caramanta/Antioquia | F56: Caramanta nos inspira | G56: 27 | H56: 1 | I56: 3.7037037 | J56: 11 | K56: 40.740741 | L56: 12 | M56: 44.444444 | N56: 166 | O56: 83 | P56: 74 | Q56: 89.156627 | R56: 102 | S56: 89 | T56: 87.254902 | U56: 91 | V56: 84 | W56: 92.307692 | X56: 95.258535 | Y56: 96.922656 | Z56: 95.924183 | AA56: Sobresaliente | AB56: 87.182475 | AC56: 88.798728 | AD56: 87.828976 | AE56: Sobresaliente | AF56: 92.196464 | AG56: 92.196464 | AH56: 92.196464 | AI56: Sobresaliente | AJ56: 16.115674 | AK56: 30.728819 | AL56: 21.960932 | AM56: 46.713501 | AN56: 50.265289 | AO56: 48.134216 | AP56: 67.378846 | AQ56: 67.246023 | AR56: 67.325717 | AS56: 1.8119276 | AT56: 99.612769 | AU56: 48.352214 | AV56: 20972140940 | AW56: 7357950101 | AX56: 5953279157 | AY56: 80.90948 | AZ56: 28.386607 | BA56: 14426014076 | BB56: 9294904373 | BC56: 64.431549 | BD56: 72.706852 | BE56: 6367921126 | BF56: 5278708198 | BG56: 82.895314 | BH56: 97.876949
... A121: =+A120+1 -> 120 | B121: Mario Alexander Montoya | C121: Urabá | D121: Chigorodó | E121: Chigorodó/Antioquia | F121: CONSTRUYAMOS JUNTOS, UN CHIGORODÓ COMPETITIVO | G121: 51 | H121: 18 | I121: 35.294118 | J121: 18 | K121: 35.294118 | L121: 18 | M121: 35.294118 | N121: 278 | O121: 219 | P121: 218 | Q121: 99.543379 | R121: 249 | S121: 156 | T121: 62.650602 | U121: 241 | V121: 174 | W121: 72.19917 | X121: 100 | Y121: 100 | Z121: 100 | AA121: Sobresaliente | AB121: 93.078964 | AC121: 93.078964 | AD121: 93.078964 | AE121: Sobresaliente | AF121: 96.093432 | AG121: 94.326957 | AH121: 95.386842 | AI121: Sobresaliente | AJ121: 18.299285 | AK121: 54.723272 | AL121: 32.86888 | AM121: 26.137404 | AN121: 56.751648 | AO121: 38.383102 | AP121: 41.944016 | AQ121: 64.128916 | AR121: 50.817976 | AS121: -571.4946 | AT121: -571.4946 | AU121: -571.4946 | AV121: 173723404833 | AW121: 5.6332688e+10 | AX121: 5.6332688e+10 | AY121: 100 | AZ121: 32.426655 | BA121: 60700245625 | BB121: 60700245625 | BC121: 100 | BD121: 67.367396 | BE121: 71713949263 | BF121: 71713949263 | BG121: 100 | BH121: 108.64793
A122: 121 | B122: Mario Alexander Montoya | C122: Valle De Aburrá | D122: Barbosa | E122: Barbosa/Antioquia | F122: Barbosa Social ¡Es la Gente! | G122: 93 | H122: 19 | I122: 20.430108 | J122: 19 | K122: 20.430108 | L122: 19 | M122: 20.430108 | N122: 576 | O122: 390 | P122: 297 | Q122: 76.153846 | R122: 466 | S122: 314 | T122: 67.381974 | U122: 496 | V122: 357 | W122: 71.975806 | X122: 97.979579 | Y122: 98.23323 | Z122: 98.081039 | AA122: Sobresaliente | AB122: 80.340918 | AC122: 83.742412 | AD122: 81.701515 | AE122: Sobresaliente | AF122: 82.348377 | AG122: 83.186417 | AH122: 82.683593 | AI122: Sobresaliente | AJ122: 22.239028 | AK122: 33.547447 | AL122: 26.762395 | AM122: 47.690141 | AN122: 61.952934 | AO122: 53.395258 | AP122: 65.657623 | AQ122: 79.253821 | AR122: 71.096102 | AS122: -1801.3803 | AT122: -850.69016 | AU122: -850.69016 | AV122: 2.1593001e+11 | AW122: 5.2492296e+10 | AX122: 35929544140 | AY122: 68.447271 | AZ122: 16.639439 | BA122: 7.5611881e+10 | BB122: 3.9691521e+10 | BC122: 52.493762 | BD122: 35.021099 | BE122: 71202761866 | BF122: 53683567023 | BG122: 75.395344 | BH122: 59.882658

Sheet BD
A1: ENTE | B1: Mpio | C1: Nombre del Plan | D1: # Indicadores de Resultado | E1: # Ind Resultado efectivos y mas que efectivos 2020 | F1: % Ind Resultado efectivos y mas que efectivos 2021 | G1: # Ind Resultado efectivos y mas que efectivos 2021 | H1: % Ind Resultado efectivos y mas que efectivos 2022 | I1: # Ind Resultado efectivos y mas que efectivos 2022 | J1: % Ind Resultado efectivos y mas que efectivos 2023 | K1: # Total Ind de Producto | L1: # Programados 2020 | M1: # Sobresalientes 2020 | N1: % Sobresalientes 2020 | O1: # Programados 2021 | P1: # Sobresalientes 2021 | Q1: % Sobresalientes 2021 | R1: # Programados 2022 | S1: # Sobresalientes 2022 | T1: % Sobresalientes 2022 | U1: Eficacia PA 2020 | V1: Eficiencia PA 2020 | W1: Cumplimiento PA 2020 | X1: Rango PA 2020 | Y1: Eficacia PA 2021 | Z1: Eficiencia PA 2021 | AA1: Cumplimiento PA 2021 | AB1: Rango PA 2021 | AC1: Eficacia PA 2022 | AD1: Eficiencia PA 2022 | AE1: Cumplimiento PA 2022 | AF1: Rango PA 2022 | AG1: Eficacia PD 2020 | AH1: Eficiencia PD 2020 | AI1: Cumplimiento PD 2020 | AJ1: Eficacia PD 2021 | AK1: Eficiencia PD 2021 | AL1: Cumplimiento PD 2021 | AM1: Eficacia PD 2022 | AN1: Eficiencia PD 2022 | AO1: Cump PD 2022 | AP1: Efectividad 2020 | AQ1: Efectividad 2021 | AR1: Efectividad 2022 | AS1: Plan Plurianual de Inversiones | AT1: Apropiado 2020 | AU1: Obligado 2020 | AV1: % ejec Ptal 2020 | AW1: % ejec Acuml del Ppi 2020 | AX1: Apropiado 2021 | AY1: Obligado 2021 | AZ1: % ejec Ptal 2021 | BA1: % ejec Acuml del Ppi 2021 | BB1: Apropiado 2022 | BC1: Obligado 2022 | BD1: % ejec Ptal 2022 | BE1: % ejec Acuml del Ppi 2022 | BF1: Eficacia PA 2023 | BG1: Eficiencia PA 2023 | BH1: Cumplimiento PA 2023 | BI1: Rango PA 2023 | BJ1: Eficacia PD 2023 | BK1: Eficiencia PD 2023 | BL1: Cump PD 2023 | BM1: Efectividad 2023
A2: Tarazá | B2: Tarazá/Antioquia | C2: SEMBRANDO BIENESTAR CON EL AMIGO DE SIEMPRE. | D2: 36 | E2: 4 | F2: 11.111111 | G2: 4 | H2: 11.111111 | I2: 4 | J2: 11.111111 | K2: 147 | L2: 94 | M2: 82 | N2: 87.234043 | O2: 124 | P2: 90 | Q2: 72.580645 | R2: 122 | S2: 102 | T2: 83.606557 | U2: 99.502503 | V2: 99.165429 | W2: 99.367673 | X2: Sobresaliente | Y2: 97.557129 | Z2: 96.093276 | AA2: 96.971588 | AB2: Sobresaliente | AC2: 99.820429 | AD2: 99.70614 | AE2: 99.774713 | AF2: Sobresaliente | AG2: 23.371735 | AH2: 26.808423 | AI2: 24.74641 | AJ2: 52.460746 | AK2: 54.474799 | AL2: 53.266367 | AM2: 73.928344 | AN2: 74.092529 | AO2: 73.994018 | AP2: 1.2283394 | AQ2: 1.2283394 | AR2: 1.2283394 | AS2: 156391434882 | AT2: 62269476540 | AU2: 55611502007 | AV2: 89.307804 | AW2: 35.559174 | AX2: 52279942480 | AY2: 48830829236 | AZ2: 93.402607 | BA2: 66.782641 | BB2: 1.5247714e+11 | BC2: 5.065961e+10 | BD2: 33.224396 | BE2: 99.17547 | BF2: 0.96695418 | BG2: 0.96161267 | BH2: 0.96481758 | BI2: Sobresaliente | BJ2: 0.64502191 | BK2: 0.6037008 | BL2: 0.62849347 | BM2: 2016.4361
A3: Zaragoza | B3: Zaragoza/Antioquia | C3: Unidos Construimos | D3: 89 | E3: 20 | F3: 22.47191 | G3: 22 | H3: 24.719101 | I3: 32 | J3: 35.955056 | K3: 297 | L3: 125 | M3: 125 | N3: 100 | O3: 264 | P3: 215 | Q3: 81.439394 | R3: 203 | S3: 198 | T3: 97.536946 | U3: 99.98167 | V3: 99.968816 | W3: 99.976529 | X3: Sobresaliente | Y3: 92.220325 | Z3: 89.610223 | AA3: 91.176284 | AB3: Sobresaliente | AC3: 99.983548 | AD3: 99.974241 | AE3: 99.979825 | AF3: Sobresaliente | AG3: 17.121443 | AH3: 27.890659 | AI3: 21.429129 | AJ3: 42.418047 | AK3: 57.434063 | AL3: 48.424454 | AM3: 68.111758 | AN3: 82.038356 | AO3: 73.682397 | AP3: -36.015024 | AQ3: -30.667602 | AR3: 27.810587 | AS3: 2.1813974e+11 | AT3: 25979191598 | AU3: 25969104918 | AV3: 99.961174 | AW3: 11.904802 | AX3: 56887436910 | AY3: 56887436910 | AZ3: 100 | BA3: 37.983241 | BB3: 47450734156 | BC3: 47468734156 | BD3: 100.03793 | BE3: 59.743941 | BF3: 0.98316368 | BG3: 0.98155346 | BH3: 0.98251959 | BI3: Sobresaliente | BJ3: 0.9699058 | BK3: 0.83407359 | BL3: 0.91557291 | BM3: 1.1438775
A4: Puerto Triunfo | B4: Puerto triunfo/Antioquia | C4: "HACER MÁS ES POSIBLE" | D4: 36 | E4: 2 | F4: 5.5555556 | G4: 2 | H4: 5.5555556 | I4: 2 | J4: 5.5555556 | K4: 219 | L4: 101 | M4: 98 | N4: 97.029703 | O4: 188 | P4: 151 | Q4: 80.319149 | R4: 160 | S4: 145 | T4: 90.625 | U4: 43.471274 | V4: 43.457086 | W4: 43.465599 | X4: Bajo | Y4: 91.271365 | Z4: 88.037652 | AA4: 89.97788 | AB4: Sobresaliente | AC4: 74.052464 | AD4: 60.982439 | AE4: 68.824454 | AF4: Medio | AG4: 10.705634 | AH4: 12.961312 | AI4: 11.607905 | AJ4: 39.235867 | AK4: 45.363884 | AL4: 41.687074 | AM4: 63.679428 | AN4: 61.317365 | AO4: 62.734602 | AP4: 2.6296613 | AQ4: 2.6296613 | AR4: 2.6296613 | AS4: 1.201868e+11 | AT4: 42334646831 | AU4: 18458546831 | AV4: 43.601514 | AW4: 15.358215 | AX4: 2.7436132e+10 | AY4: 2.7436132e+10 | AZ4: 100 | BA4: 38.186123 | BB4: 2.5896266e+10 | BC4: 2.5896266e+10 | BD4: 100 | BE4: 59.732804 | BF4: 0.89135204 | BG4: 0.88103912 | BH4: 0.88722687 | BI4: Sobresaliente | BJ4: 0.88215379 | BK4: 0.81520453 | BL4: 0.85537409 | BM4: 0.027048518
A5: Vegachí | B5: Vegachí/Antioquia | C5: VEGACHÍ, UN PROYECTO DE TODOS. ¡HAGÁMOSLO JUNTOS! | D5: 80 | E5: 20 | F5: 25 | G5: 19 | H5: 23.75 | I5: 38 | J5: 47.5 | K5: 345 | L5: 269 | M5: 205 | N5: 76.208178 | O5: 282 | P5: 180 | Q5: 63.829787 | R5: 266 | S5: 245 | T5: 92.105263 | U5: 95.778624 | V5: 91.600161 | W5: 94.107239 | X5: Sobresaliente | Y5: 83.882219 | Z5: 63.838356 | AA5: 75.864673 | AB5: Satisfactorio | AC5: 98.641199 | AD5: 96.514601 | AE5: 97.79056 | AF5: Sobresaliente | AG5: 15.915667 | AH5: 22.889964 | AI5: 18.705386 | AJ5: 33.525764 | AK5: 37.544196 | AL5: 35.133137 | AM5: 52.773324 | AN5: 79.77499 | AO5: 63.573991 | AP5: 6.4577091 | AQ5: 9.8777905 | AR5: 86.082388 | AS5: 118026551120 | AT5: 14407421709 | AU5: 13968260330 | AV5: 96.951839 | AW5: 11.834846 | AX5: 15785230576 | AY5: 21121001893 | AZ5: 133.8023 | BA5: 29.729973 | BB5: 24287935570 | BC5: 26861432870 | BD5: 110.59578 | BE5: 52.488779 | BF5: 0.86723971 | BG5: 0.79500758 | BH5: 0.83834686 | BI5: Sobresaliente | BJ5: 0.68397889 | BK5: 0.75340265 | BL5: 0.71174839 | BM5: -89.509537
A6: Angostura | B6: Angostura/Antioquia | C6: Angostura, un nuevo comienzo para el progreso | D6: 49 | E6: 1 | F6: 2.0408163 | G6: 1 | H6: 2.0408163 | I6: 1 | J6: 2.0408163 | K6: 231 | L6: 120 | M6: 116 | N6: 96.666667 | O6: 180 | P6: 96 | Q6: 53.333333 | R6: 169 | S6: 147 | T6: 86.982249 | U6: 99.908424 | V6: 99.902747 | W6: 99.906153 | X6: Sobresaliente | Y6: 98.386412 | Z6: 95.75819 | AA6: 97.335123 | AB6: Sobresaliente | AC6: 97.514286 | AD6: 96.852113 | AE6: 97.249417 | AF6: Sobresaliente | AG6: 23.016021 | AH6: 29.643954 | AI6: 25.667194 | AJ6: 43.177671 | AK6: 40.985175 | AL6: 42.300673 | AM6: 67.378748 | AN6: 56.426947 | AO6: 62.998028 | AP6: 25.255231 | AQ6: 26.079048 | AR6: 27.397155 | AS6: 53991083226 | AT6: 1.6343535e+10 | AU6: 1.3469582e+10 | AV6: 82.415351 | AW6: 24.947789 | AX6: 7.9877517e+10 | AY6: 7.7392525e+10 | AZ6: 96.888997 | BA6: 168.29095 | BB6: 2.2277321e+10 | BC6: 2.5816099e+10 | BD6: 115.88511 | BE6: 216.10644 | BF6: 0.88790697 | BG6: 0.8829984 | BH6: 0.88594354 | BI6: Sobresaliente | BJ6: 0.87905493 | BK6: 0.68939005 | BL6: 0.80318898 | BM6: 0.27397155
A7: Toledo | B7: Toledo/Antioquia | C7: Toledo construye su futuro desde el campo | D7: 156 | E7: 32 | F7: 20.512821 | G7: 37 | H7: 23.717949 | I7: 43 | J7: 27.564103 | K7: 188 | L7: 188 | M7: 104 | N7: 55.319149 | O7: 187 | P7: 119 | Q7: 63.636364 | R7: 187 | S7: 158 | T7: 84.491979 | U7: 99.487061 | V7: 99.318789 | W7: 99.419752 | X7: Sobresaliente | Y7: 98.641763 | Z7: 98.439117 | AA7: 98.560705 | AB7: Sobresaliente | AC7: 91.654508 | AD7: 88.873094 | AE7: 90.541943 | AF7: Sobresaliente | AG7: 14.072308 | AH7: 36.03678 | AI7: 22.858097 | AJ7: 30.920995 | AK7: 50.518538 | AL7: 38.760012 | AM7: 63.959722 | AN7: 66.6865 | AO7: 65.050434 | AP7: -101.41178 | AQ7: -38.130045 | AR7: -90.504623 | AS7: 4.260237e+10 | AT7: 8.1801776e+09 | AU7: 7.2888445e+09 | AV7: 89.103744 | AW7: 17.109012 | AX7: 7.1016794e+09 | AY7: 6.6483966e+09 | AZ7: 93.617245 | BA7: 32.714708 | BB7: 9.8110725e+09 | BC7: 9.8110725e+09 | BD7: 100 | BE7: 55.744114 | BF7: 0.85510275 | BG7: 0.82421215 | BH7: 0.84274651 | BI7: Sobresaliente | BJ7: 0.81192697 | BK7: 0.76401821 | BL7: 0.79276347 | BM7: -0.90504623
A8: Olaya | B8: Olaya/Antioquia | C8: Unidos Por Olaya | D8: 76 | E8: 13 | F8: 17.105263 | G8: 13 | H8: 17.105263 | I8: 13 | J8: 17.105263 | K8: 289 | L8: 180 | M8: 128 | N8: 71.111111 | O8: 244 | P8: 181 | Q8: 74.180328 | R8: 260 | S8: 229 | T8: 88.076923 | U8: 75.992603 | V8: 74.983742 | W8: 75.589059 | X8: Satisfactorio | Y8: 49.023462 | Z8: 44.497653 | AA8: 47.213138 | AB8: Bajo | AC8: 77.025994 | AD8: 76.971425 | AE8: 77.004167 | AF8: Satisfactorio | AG8: 17.051221 | AH8: 42.593066 | AI8: 27.267959 | AJ8: 44.267834 | AK8: 56.361805 | AL8: 49.105423 | AM8: 71.594759 | AN8: 72.347623 | AO8: 71.895905 | AP8: 20.577656 | AQ8: 20.577656 | AR8: 20.577656 | AS8: 26338519367 | AT8: 2775001152 | AU8: 2817982846 | AV8: 101.54889 | AW8: 10.699094 | AX8: 17125060261 | AY8: 17124463992 | AZ8: 99.996518 | BA8: 75.715899 | BB8: 23230378338 | BC8: 23210458359 | BD8: 99.91425 | BE8: 163.83953 | BF8: 0 | BG8: 0 | BH8: 0 | BI8: Crítico | BJ8: 0.90299718 | BK8: 0.84742193 | BL8: 0.88076708 | BM8: -0.86911044
A9: Sopetrán | B9: Sopetrán/Antioquia | C9: PACTO POR SOPETRÁN CON CALIDAD DE VIDA | D9: 51 | E9: 6 | F9: 11.764706 | G9: 12 | H9: 23.529412 | I9: 12 | J9: 23.529412 | K9: 325 | L9: 238 | M9: 238 | N9: 100 | O9: 278 | P9: 276 | Q9: 99.280576 | R9: 303 | S9: 286 | T9: 94.389439 | U9: 99.128089 | V9: 99.128089 | W9: 99.128089 | X9: Sobresaliente | Y9: 95.559557 | Z9: 95.559557 | AA9: 95.559557 | AB9: Sobresaliente | AC9: 96.070534 | AD9: 96.037301 | AE9: 96.057241 | AF9: Sobresaliente | AG9: 21.828953 | AH9: 41.292347 | AI9: 29.614311 | AJ9: 46.980397 | AK9: 57.382315 | AL9: 51.141164 | AM9: 70.755055 | AN9: 71.516147 | AO9: 71.059492 | AP9: 2.2205477 | AQ9: 47.368812 | AR9: 59.93946 | AS9: 73792603729 | AT9: 1.8829853e+10 | AU9: 1.4150359e+10 | AV9: 75.148535 | AW9: 19.17585 | AX9: 3.3655852e+10 | AY9: 2.1083863e+10 | AZ9: 62.645457 | BA9: 47.747633 | BB9: 36219712656 | BC9: 28925639990 | BD9: 79.861594 | BE9: 86.946196 | BF9: 0.97725356 | BG9: 0.97439081 | BH9: 0.97610846 | BI9: Sobresaliente | BJ9: 0.9612443 | BK9: 0.863939 | BL9: 0.92232218 | BM9: 0.81788219
A10: Sonsón | B10: Sonson/Antioquia | C10: Juntos Construyendo Futuro | D10: 55 | E10: 12 | F10: 21.818182 | G10: 12 | H10: 21.818182 | I10: 19 | J10: 34.545455 | K10: 211 | L10: 167 | M10: 138 | N10: 82.634731 | O10: 192 | P10: 151 | Q10: 78.645833 | R10: 179 | S10: 167 | T10: 93.296089 | U10: 96.856923 | V10: 95.405611 | W10: 96.276398 | X10: Sobresaliente | Y10: 94.657582 | Z10: 93.554982 | AA10: 94.216542 | AB10: Sobresaliente | AC10: 97.199011 | AD10: 96.796055 | AE10: 97.037829 | AF10: Sobresaliente | AG10: 22.040434 | AH10: 34.649372 | AI10: 27.084009 | AJ10: 48.254076 | AK10: 56.232277 | AL10: 51.445356 | AM10: 73.641239 | AN10: 77.59453 | AO10: 75.222555 | AP10: -127.18453 | AQ10: -202.06944 | AR10: -729.0633 | AS10: 198909078210 | AT10: 4.2485031e+10 | AU10: 4.2063318e+10 | AV10: 99.007385 | AW10: 21.147008 | AX10: 49646895926 | AY10: 49646895926 | AZ10: 100 | BA10: 46.1066 | BB10: 6.4657159e+10 | BC10: 5.3477067e+10 | BD10: 82.708655 | BE10: 72.991782 | BF10: 0.93021301 | BG10: 0.90815227 | BH10: 0.92138872 | BI10: Sobresaliente | BJ10: 0.85295582 | BK10: 0.79975544 | BL10: 0.83167567 | BM10: 4.7037193
A11: Amagá | B11: Amagá/Antioquia | C11: Juntos por la Equidad | D11: 43 | E11: 11 | F11: 25.581395 | G11: 11 | H11: 25.581395 | I11: 30 | J11: 69.767442 | K11: 90 | L11: 90 | M11: 75 | N11: 83.333333 | O11: 90 | P11: 76 | Q11: 84.444444 | R11: 90 | S11: 80 | T11: 88.888889 | U11: 87.192424 | V11: 80.191896 | W11: 84.392213 | X11: Sobresaliente | Y11: 94.992609 | Z11: 91.321933 | AA11: 93.524338 | AB11: Sobresaliente | AC11: 98.793548 | AD11: 98.898811 | AE11: 98.835653 | AF11: Sobresaliente | AG11: 15.343402 | AH11: 61.185721 | AI11: 33.68033 | AJ11: 35.788447 | AK11: 44.187779 | AL11: 39.148179 | AM11: 62.439455 | AN11: 72.836379 | AO11: 66.598224 | AP11: 17.309865 | AQ11: 17.309865 | AR11: 76.42143 | AS11: 84822150000 | AT11: 2.1773326e+10 | AU11: 1.8499714e+10 | AV11: 84.965036 | AW11: 21.810004 | AX11: 28261912560 | AY11: 28134912560 | AZ11: 99.550632 | BA11: 54.979303 | BB11: 60568736211 | BC11: 45696734487 | BD11: 75.446076 | BE11: 108.85289 | BF11: 0.99335817 | BG11: 0.9887753 | BH11: 0.99152502 | BI11: Sobresaliente | BJ11: 0.93209977 | BK11: 0.87814551 | BL11: 0.91051807 | BM11: 0.096247579
A12: Betania | B12: Betania/Antioquia | C12: Betania tiene futuro | D12: 56 | E12: 11 | F12: 19.642857 | G12: 11 | H12: 19.642857 | I12: 11 | J12: 19.642857 | K12: 247 | L12: 205 | M12: 169 | N12: 82.439024 | O12: 217 | P12: 213 | Q12: 98.156682 | R12: 187 | S12: 126 | T12: 67.379679 | U12: 99.355805 | V12: 99.725345 | W12: 99.503621 | X12: Sobresaliente | Y12: 93.305388 | Z12: 93.305388 | AA12: 93.305388 | AB12: Sobresaliente | AC12: 95.506066 | AD12: 92.010627 | AE12: 94.10789 | AF12: Sobresaliente | AG12: 22.245366 | AH12: 34.502392 | AI12: 27.148177 | AJ12: 47.682389 | AK12: 57.588509 | AL12: 51.644837 | AM12: 70.018028 | AN12: 71.116211 | AO12: 70.457301 | AP12: 11.217978 | AQ12: 11.217978 | AR12: 11.217978 | AS12: 4.4785385e+10 | AT12: 1.2594897e+10 | AU12: 11587257559 | AV12: 91.999619 | AW12: 25.872855 | AX12: 1.6734207e+10 | AY12: 1.2437579e+10 | AZ12: 74.324282 | BA12: 53.644368 | BB12: 12983986800 | BC12: 12983986800 | BD12: 100 | BE12: 82.635939 | BF12: 0.98967126 | BG12: 0.98473874 | BH12: 0.98769825 | BI12: Sobresaliente | BJ12: 0.93506437 | BK12: 0.81135111 | BL12: 0.88557906 | BM12: 0.11217978
A13: Pueblo Rico | B13: Pueblorrico/Antioquia | C13: Bien por Pueblorrico | D13: 91 | E13: 18 | F13: 19.78022 | G13: 18 | H13: 19.78022 | I13: 18 | J13: 19.78022 | K13: 129 | L13: 54 | M13: 30 | N13: 55.555556 | O13: 94 | P13: 63 | Q13: 67.021277 | R13: 80 | S13: 18 | T13: 22.5 | U13: 77.852987 | V13: 77.747318 | W13: 77.810719 | X13: Satisfactorio | Y13: 92.305481 | Z13: 92.286453 | AA13: 92.29787 | AB13: Sobresaliente | AC13: 43.81452 | AD13: 59.162764 | AE13: 49.953818 | AF13: Bajo | AG13: 72.594786 | AH13: 75.022044 | AI13: 73.565689 | AJ13: 85.588373 | AK13: 88.478174 | AL13: 86.744293 | AM13: 86.123809 | AN13: 88.636571 | AO13: 87.128913 | AP13: 37.952801 | AQ13: 37.952801 | AR13: 37.952801 | AS13: 85882300464 | AT13: 9.8631339e+09 | AU13: 1.018627e+10 | AV13: 103.2762 | AW13: 11.860732 | AX13: 14601364495 | AY13: 1.0967117e+10 | AZ13: 75.110219 | BA13: 24.630671 | BB13: 1.7061205e+10 | BC13: 4.208819e+09 | BD13: 24.668943 | BE13: 29.531353 | BF13: 0.44359895 | BG13: 0.30624493 | BH13: 0.38865734 | BI13: Crítico | BJ13: 0.9191366 | BK13: 0.93191606 | BL13: 0.92424838 | BM13: 7.2450872
... A43: Cáceres | B43: Cáceres/Antioquia | C43: Cáceres Somos Todos | D43: 36 | E43: 19 | F43: 52.777778 | G43: 19 | H43: 52.777778 | I43: 20 | J43: 55.555556 | K43: 197 | L43: 106 | M43: 103 | N43: 97.169811 | O43: 154 | P43: 142 | Q43: 92.207792 | R43: 146 | S43: 101 | T43: 69.178082 | U43: 96.186748 | V43: 96.533204 | W43: 96.32533 | X43: Sobresaliente | Y43: 98.219787 | Z43: 97.417711 | AA43: 97.898956 | AB43: Sobresaliente | AC43: 99.025345 | AD43: 98.938736 | AE43: 98.990702 | AF43: Sobresaliente | AG43: 22.795311 | AH43: 65.703746 | AI43: 39.958685 | AJ43: 47.914114 | AK43: 77.099299 | AL43: 59.588188 | AM43: 68.910205 | AN43: 78.321799 | AO43: 72.674842 | AP43: 26042.739 | AQ43: 48688.033 | AR43: 56576.287 | AS43: 1.5160368e+11 | AT43: 39030590510 | AU43: 33869100218 | AV43: 86.775782 | AW43: 22.340553 | AX43: 37435185293 | AY43: 37435185293 | AZ43: 100 | BA43: 47.033349 | BB43: 47771938918 | BC43: 47673413778 | BD43: 99.793759 | BE43: 78.479429 | BF43: 0.65735607 | BG43: 0.65206043 | BH43: 0.65523782 | BI43: Medio | BJ43: 0.84236477 | BK43: 0.7872308 | BL43: 0.82031118 | BM43: 31.585546
A44: Caucasia | B44: Caucasia/Antioquia | C44: EVOLUCIÓN | D44: 64 | E44: 17 | F44: 26.5625 | G44: 15 | H44: 23.4375 | I44: 16 | J44: 25 | K44: 251 | L44: 0 | M44: 0 | N44: #DIV/0! | O44: 156 | P44: 153 | Q44: 98.076923 | R44: 236 | S44: 133 | T44: 56.355932 | U44: 0 | V44: 0 | W44: 0 | X44: Crítico | Y44: 99.954832 | Z44: 99.813959 | AA44: 99.898483 | AB44: Sobresaliente | AC44: 96.771771 | AD44: 96.194173 | AE44: 96.540732 | AF44: Sobresaliente | AG44: 0 | AH44: 0 | AI44: 0 | AJ44: 20.896279 | AK44: 43.80457 | AL44: 30.059595 | AM44: 57.058988 | AN44: 44.593858 | AO44: 52.072936 | AP44: 70.476716 | AQ44: 63.114844 | AR44: 74.490336 | AS44: 2.2401892e+11 | AT44: 0 | AU44: 0 | AV44: 0 | AW44: 0 | AX44: 110096612201 | AY44: 103577063398 | AZ44: 94.078338 | BA44: 46.235855 | BB44: 116543729590 | BC44: 109863215913 | BD44: 94.267805 | BE44: 95.277792 | BF44: 0.94650534 | BG44: 0.94083507 | BH44: 0.94423723 | BI44: Sobresaliente | BJ44: 0.94852261 | BK44: 0.72437573 | BL44: 0.85886386 | BM44: -1.0527085
A45: Caracolí | B45: Caracolí/Antioquia | C45: POR LA HUELLA DEL DESARROLLO | D45: 233 | E45: 45 | F45: 19.313305 | G45: 78 | H45: 33.476395 | I45: 89 | J45: 38.197425 | K45: 330 | L45: 190 | M45: 190 | N45: 100 | O45: 269 | P45: 269 | Q45: 100 | R45: 270 | S45: 269 | T45: 99.62963 | U45: 100 | V45: 100 | W45: 100 | X45: Sobresaliente | Y45: 99.993082 | Z45: 99.984898 | AA45: 99.989808 | AB45: Sobresaliente | AC45: 99.928828 | AD45: 99.815028 | AE45: 99.883308 | AF45: Sobresaliente | AG45: 19.436112 | AH45: 20.875208 | AI45: 20.01175 | AJ45: 44.023156 | AK45: 45.642465 | AL45: 44.67088 | AM45: 69.615945 | AN45: 71.008237 | AO45: 70.172862 | AP45: 134.12705 | AQ45: 154.09709 | AR45: 107.75947 | AS45: 21362868025 | AT45: 4087687549 | AU45: 4059003549 | AV45: 99.298283 | AW45: 19.000274 | AX45: 5637614914 | AY45: 5629206234 | AZ45: 99.850847 | BA45: 45.350698 | BB45: 5673694504 | BC45: 5670488504 | BD45: 99.943494 | BE45: 71.894365 | BF45: 1 | BG45: 1 | BH45: 1 | BI45: Sobresaliente | BJ45: 0.9999445 | BK45: 0.98809776 | BL45: 0.9952058 | BM45: 0.67407054
A46: Yalí | B46: Yalí/Antioquia | C46: Más Oportunidades para Todos | D46: 93 | E46: 28 | F46: 30.107527 | G46: 28 | H46: 30.107527 | I46: 28 | J46: 30.107527 | K46: 416 | L46: 271 | M46: 128 | N46: 47.232472 | O46: 302 | P46: 299 | Q46: 99.006623 | R46: 280 | S46: 257 | T46: 91.785714 | U46: 75.174536 | V46: 75.046257 | W46: 75.123224 | X46: Satisfactorio | Y46: 99.898115 | Z46: 99.883593 | AA46: 99.892306 | AB46: Sobresaliente | AC46: 94.610134 | AD46: 92.271173 | AE46: 93.67455 | AF46: Sobresaliente | AG46: 17.374064 | AH46: 32.824869 | AI46: 23.554386 | AJ46: 31.139302 | AK46: 46.174643 | AL46: 37.153438 | AM46: 53.012653 | AN46: 61.730256 | AO46: 56.499694 | AP46: 631.67764 | AQ46: 631.67764 | AR46: 631.67764 | AS46: 8.0698863e+10 | AT46: 8.8661191e+09 | AU46: 8.8661191e+09 | AV46: 100 | AW46: 10.986672 | AX46: 9816972601 | AY46: 9816972601 | AZ46: 100 | BA46: 23.151617 | BB46: 1.32588e+10 | BC46: 1.3240875e+10 | BD46: 99.864807 | BE46: 39.559376 | BF46: 0.89354516 | BG46: 0.83886557 | BH46: 0.87167332 | BI46: Sobresaliente | BJ46: 0.726012 | BK46: 0.72387653 | BL46: 0.72515781 | BM46: 1.1361854
A47: Campamento | B47: Campamento/Antioquia | C47: Campamento Próspero, Sostenible e Incluyente | D47: 25 | E47: 1 | F47: 4 | G47: 1 | H47: 4 | I47: 14 | J47: 56 | K47: 106 | L47: 91 | M47: 89 | N47: 97.802198 | O47: 96 | P47: 87 | Q47: 90.625 | R47: 93 | S47: 91 | T47: 97.849462 | U47: 99.762087 | V47: 99.699407 | W47: 99.737015 | X47: Sobresaliente | Y47: 98.513695 | Z47: 99.321119 | AA47: 98.836664 | AB47: Sobresaliente | AC47: 99.760127 | AD47: 99.999437 | AE47: 99.855851 | AF47: Sobresaliente | AG47: 25.752898 | AH47: 28.113835 | AI47: 26.697273 | AJ47: 48.670707 | AK47: 49.595297 | AL47: 49.040543 | AM47: 73.678222 | AN47: 66.213509 | AO47: 70.692337 | AP47: 2.9633931 | AQ47: 2.9633931 | AR47: -159.06175 | AS47: 38926740036 | AT47: 9590031674 | AU47: 9590031674 | AV47: 100 | AW47: 24.636103 | AX47: 17364499433 | AY47: 13053730459 | AZ47: 75.174816 | BA47: 58.170199 | BB47: 16865191836 | BC47: 14353132801 | BD47: 85.105067 | BE47: 95.042367 | BF47: 0.99256558 | BG47: 0.99035325 | BH47: 0.99168065 | BI47: Sobresaliente | BJ47: 0.98457969 | BK47: 0.76683452 | BL47: 0.89748162 | BM47: 1.3773852
A48: Car. Del Príncipe | B48: Carolina/Antioquia | C48: Carolina del Príncipe, compromiso de todos | D48: 56 | E48: 29 | F48: 51.785714 | G48: 29 | H48: 51.785714 | I48: 29 | J48: 51.785714 | K48: 199 | L48: 140 | M48: 122 | N48: 87.142857 | O48: 170 | P48: 170 | Q48: 100 | R48: 186 | S48: 186 | T48: 100 | U48: 93.658531 | V48: 93.658531 | W48: 93.658531 | X48: Sobresaliente | Y48: 83.509971 | Z48: 83.509971 | AA48: 83.509971 | AB48: Sobresaliente | AC48: 96.799011 | AD48: 96.936963 | AE48: 96.854192 | AF48: Sobresaliente | AG48: 16.399417 | AH48: 29.699052 | AI48: 21.719271 | AJ48: 42.147722 | AK48: 63.749621 | AL48: 50.788482 | AM48: 68.174688 | AN48: 74.71401 | AO48: 70.790417 | AP48: 48.130997 | AQ48: 56.080682 | AR48: 66.143324 | AS48: 42869769266 | AT48: 8.0011147e+09 | AU48: 7.5998906e+09 | AV48: 94.985397 | AW48: 17.727855 | AX48: 1.3565419e+10 | AY48: 9.3961287e+09 | AZ48: 69.265303 | BA48: 39.645698 | BB48: 17979562624 | BC48: 1.3106451e+10 | BD48: 72.896384 | BE48: 70.21841 | BF48: 0.97522451 | BG48: 0.9738509 | BH48: 0.97467506 | BI48: Sobresaliente | BJ48: 0.90336645 | BK48: 0.79964099 | BL48: 0.86187627 | BM48: 1.0135568
A49: Donmatías | B49: Donmatías/Antioquia | C49: Donmatías Imparable | D49: 34 | E49: 3 | F49: 8.8235294 | G49: 3 | H49: 8.8235294 | I49: 3 | J49: 8.8235294 | K49: 74 | L49: 74 | M49: 60 | N49: 81.081081 | O49: 74 | P49: 63 | Q49: 85.135135 | R49: 74 | S49: 68 | T49: 91.891892 | U49: 93.86488 | V49: 96.723448 | W49: 95.008307 | X49: Sobresaliente | Y49: 95.686786 | Z49: 92.196758 | AA49: 94.290774 | AB49: Sobresaliente | AC49: 98.622999 | AD49: 97.764568 | AE49: 98.279627 | AF49: Sobresaliente | AG49: 14.737286 | AH49: 53.352825 | AI49: 30.183501 | AJ49: 33.724614 | AK49: 49.698585 | AL49: 40.114202 | AM49: 58.516296 | AN49: 81.996533 | AO49: 67.908391 | AP49: 11.088822 | AQ49: 11.088822 | AR49: 18.132223 | AS49: 71035500000 | AT49: 1.6422316e+10 | AU49: 1.1035362e+10 | AV49: 67.197353 | AW49: 15.534996 | AX49: 13192200000 | AY49: 13192200000 | AZ49: 100 | BA49: 34.106273 | BB49: 36006331297 | BC49: 24530535010 | BD49: 68.128393 | BE49: 68.639056 | BF49: 0.98894428 | BG49: 0.98089711 | BH49: 0.98572541 | BI49: Sobresaliente | BJ49: 0.8936511 | BK49: 0.96187856 | BL49: 0.92094209 | BM49: 1.4429353
A50: Abriaquí | B50: Abriaquí/Antioquia | C50: Abriaquí, con Sentido de Pertenencia | D50: 94 | E50: 27 | F50: 28.723404 | G50: 30 | H50: 31.914894 | I50: 27 | J50: 28.723404 | K50: 108 | L50: 54 | M50: 45 | N50: 83.333333 | O50: 71 | P50: 58 | Q50: 81.690141 | R50: 97 | S50: 32 | T50: 32.989691 | U50: 97.527185 | V50: 97.340636 | W50: 97.452565 | X50: Sobresaliente | Y50: 98.781161 | Z50: 98.535594 | AA50: 98.682934 | AB50: Sobresaliente | AC50: 71.077673 | AD50: 69.424648 | AE50: 70.416463 | AF50: Satisfactorio | AG50: 12.937677 | AH50: 17.368538 | AI50: 14.710021 | AJ50: 32.958466 | AK50: 39.079716 | AL50: 35.406966 | AM50: 51.509766 | AN50: 59.624871 | AO50: 54.755808 | AP50: 19178.846 | AQ50: 19258.929 | AR50: 19273.842 | AS50: 19909057352 | AT50: 3090741054 | AU50: 2534299381 | AV50: 81.996497 | AW50: 12.729379 | AX50: 3714938888 | AY50: 3714938888 | AZ50: 100 | BA50: 31.388921 | BB50: 5115320484 | BC50: 3855919777 | BD50: 75.379828 | BE50: 50.756587 | BF50: 0.99687774 | BG50: 0.99656715 | BH50: 0.99675351 | BI50: Sobresaliente | BJ50: 0.82655687 | BK50: 0.80500095 | BL50: 0.8179345 | BM50: 1.3126019
A51: Caicedo | B51: Caicedo/Antioquia | C51: Caicedo, un campo de oportunidades | D51: 60 | E51: 7 | F51: 11.666667 | G51: 7 | H51: 11.666667 | I51: 18 | J51: 30 | K51: 262 | L51: 165 | M51: 147 | N51: 89.090909 | O51: 188 | P51: 163 | Q51: 86.702128 | R51: 159 | S51: 145 | T51: 91.194969 | U51: 98.100776 | V51: 97.576874 | W51: 97.891215 | X51: Sobresaliente | Y51: 98.312659 | Z51: 97.863261 | AA51: 98.1329 | AB51: Sobresaliente | AC51: 87.324295 | AD51: 84.989687 | AE51: 86.390451 | AF51: Sobresaliente | AG51: 19.855286 | AH51: 21.858339 | AI51: 20.656507 | AJ51: 41.06904 | AK51: 41.97286 | AL51: 41.430568 | AM51: 62.537797 | AN51: 56.565832 | AO51: 60.149011 | AP51: 0.96310655 | AQ51: 5.6691688 | AR51: 79.050706 | AS51: 57935607519 | AT51: 12359396797 | AU51: 12359396798 | AV51: 100 | AW51: 21.332989 | AX51: 13702526068 | AY51: 13702526068 | AZ51: 100 | BA51: 44.984292 | BB51: 19621421464 | BC51: 18807299464 | BD51: 95.850851 | BE51: 77.446711 | BF51: 0.78748763 | BG51: 0.77571272 | BH51: 0.78277767 | BI51: Satisfactorio | BJ51: 0.87380114 | BK51: 0.74374893 | BL51: 0.82178026 | BM51: -10.952425
A52: Argelia | B52: Argelia/Antioquia | C52: El Desarrollo es "Pa´todos" | D52: 79 | E52: 10 | F52: 12.658228 | G52: 11 | H52: 13.924051 | I52: 7 | J52: 8.8607595 | K52: 119 | L52: 33 | M52: 6 | N52: 18.181818 | O52: 38 | P52: 30 | Q52: 78.947368 | R52: 101 | S52: 96 | T52: 95.049505 | U52: 58.435568 | V52: 56.487434 | W52: 57.656315 | X52: Bajo | Y52: 98.145624 | Z52: 97.274406 | AA52: 97.797137 | AB52: Sobresaliente | AC52: 99.623016 | AD52: 99.560391 | AE52: 99.597966 | AF52: Sobresaliente | AG52: 0.36893037 | AH52: 1.1783304 | AI52: 0.69269037 | AJ52: 4.3259529 | AK52: 4.4679013 | AL52: 4.3827322 | AM52: 44.230131 | AN52: 43.946972 | AO52: 44.116867 | AP52: -34.065767 | AQ52: -297.1593 | AR52: 78.286122 | AS52: 4.362564e+10 | AT52: 76771575 | AU52: 76771575 | AV52: 100 | AW52: 0.17597811 | AX52: 593653581 | AY52: 593653581 | AZ52: 100 | BA52: 1.5367687 | BB52: 17936115459 | BC52: 17936115459 | BD52: 100 | BE52: 42.65047 | BF52: 0.99650893 | BG52: 0.99650893 | BH52: 0.99650893 | BI52: Sobresaliente | BJ52: 0.94874183 | BK52: 0.94762993 | BL52: 0.94829707 | BM52: 0.050520015
A53: Cocorná | B53: Cocorná/Antioquia | C53: Cocorná Es Esperanza | D53: 56 | E53: 14 | F53: 25 | G53: 14 | H53: 25 | I53: 14 | J53: 25 | K53: 243 | L53: 161 | M53: 139 | N53: 86.335404 | O53: 212 | P53: 156 | Q53: 73.584906 | R53: 213 | S53: 173 | T53: 81.220657 | U53: 98.955952 | V53: 99.021344 | W53: 98.982109 | X53: Sobresaliente | Y53: 94.862193 | Z53: 94.293823 | AA53: 94.634845 | AB53: Sobresaliente | AC53: 97.341792 | AD53: 96.67405 | AE53: 97.074695 | AF53: Sobresaliente | AG53: 22.485274 | AH53: 63.762837 | AI53: 38.996299 | AJ53: 46.581716 | AK53: 74.793693 | AL53: 57.866507 | AM53: 73.742515 | AN53: 80.7307 | AO53: 76.537789 | AP53: 60.217631 | AQ53: 60.217631 | AR53: 60.217631 | AS53: 7.2024349e+10 | AT53: 1.9524114e+10 | AU53: 17332832586 | AV53: 88.776541 | AW53: 24.06524 | AX53: 1.6945097e+10 | AY53: 1.4166165e+10 | AZ53: 83.600382 | BA53: 43.733819 | BB53: 28396060040 | BC53: 27312496909 | BD53: 96.184107 | BE53: 81.655018 | BF53: 0.95111376 | BG53: 0.92825848 | BH53: 0.94197165 | BI53: Sobresaliente | BJ53: 0.87068809 | BK53: 0.82204724 | BL53: 0.85123175 | BM53: -8.5802335
A54: Concepción | B54: Concepción/Antioquia | C54: Concepción, un proyecto de todos | D54: 23 | E54: 21 | F54: 91.304348 | G54: 21 | H54: 91.304348 | I54: 21 | J54: 91.304348 | K54: 100 | L54: 77 | M54: 52 | N54: 67.532468 | O54: 85 | P54: 76 | Q54: 89.411765 | R54: 98 | S54: 63 | T54: 64.285714 | U54: 73.396804 | V54: 73.193349 | W54: 73.315422 | X54: Satisfactorio | Y54: 95.535055 | Z54: 95.516458 | AA54: 95.527616 | AB54: Sobresaliente | AC54: 94.50752 | AD54: 93.298395 | AE54: 94.02387 | AF54: Sobresaliente | AG54: 20.221588 | AH54: 43.726029 | AI54: 29.623364 | AJ54: 42.662697 | AK54: 56.599914 | AL54: 48.237584 | AM54: 65.943657 | AN54: 74.778321 | AO54: 69.477522 | AP54: 61.213549 | AQ54: 61.213549 | AR54: 61.213549 | AS54: 30951994795 | AT54: 4434118036 | AU54: 4139204273 | AV54: 93.348987 | AW54: 13.372981 | AX54: 9114097183 | AY54: 8973462307 | AZ54: 98.456952 | BA54: 42.364528 | BB54: 7.2161975e+09 | BC54: 7.2161975e+09 | BD54: 100 | BE54: 65.678688 | BF54: 0.70490204 | BG54: 0.68143974 | BH54: 0.69551712 | BI54: Medio | BJ54: 0.8566006 | BK54: 0.79069805 | BL54: 0.83023958 | BM54: -4.4725631
A55: Andes | B55: Andes/Antioquia | C55: Alianza por el Desarrollo Humano | D55: 66 | E55: 8 | F55: 12.121212 | G55: 14 | H55: 21.212121 | I55: 19 | J55: 28.787879 | K55: 102 | L55: 42 | M55: 25 | N55: 59.52381 | O55: 87 | P55: 35 | Q55: 40.229885 | R55: 88 | S55: 39 | T55: 44.318182 | U55: 94.776339 | V55: 92.650474 | W55: 93.925993 | X55: Sobresaliente | Y55: 72.867267 | Z55: 68.413359 | AA55: 71.085704 | AB55: Satisfactorio | AC55: 88.117248 | AD55: 82.642777 | AE55: 85.92746 | AF55: Sobresaliente | AG55: 15.143131 | AH55: 17.778739 | AI55: 16.197374 | AJ55: 42.893037 | AK55: 52.429091 | AL55: 46.707459 | AM55: 67.675708 | AN55: 73.353751 | AO55: 69.946925 | AP55: 15.063454 | AQ55: 38.522611 | AR55: 61.943324 | AS55: 222971109383 | AT55: 36347422103 | AU55: 36347422103 | AV55: 100 | AW55: 16.301404 | AX55: 5.8521339e+10 | AY55: 5.8521339e+10 | AZ55: 100 | BA55: 42.547557 | BB55: 5.4390182e+10 | BC55: 5.4390182e+10 | BD55: 100 | BE55: 66.940934 | BF55: 0.8543105 | BG55: 0.78853201 | BH55: 0.82799911 | BI55: Sobresaliente | BJ55: 0.86588983 | BK55: 0.86594593 | BL55: 0.86591227 | BM55: 0.74268826
A56: Caramanta | B56: Caramanta/Antioquia | C56: Caramanta nos inspira | D56: 27 | E56: 1 | F56: 3.7037037 | G56: 11 | H56: 40.740741 | I56: 12 | J56: 44.444444 | K56: 166 | L56: 83 | M56: 74 | N56: 89.156627 | O56: 102 | P56: 89 | Q56: 87.254902 | R56: 91 | S56: 84 | T56: 92.307692 | U56: 95.258535 | V56: 96.922656 | W56: 95.924183 | X56: Sobresaliente | Y56: 87.182475 | Z56: 88.798728 | AA56: 87.828976 | AB56: Sobresaliente | AC56: 92.196464 | AD56: 92.196464 | AE56: 92.196464 | AF56: Sobresaliente | AG56: 16.115674 | AH56: 30.728819 | AI56: 21.960932 | AJ56: 46.713501 | AK56: 50.265289 | AL56: 48.134216 | AM56: 67.378846 | AN56: 67.246023 | AO56: 67.325717 | AP56: 1.8119276 | AQ56: 99.612769 | AR56: 48.352214 | AS56: 20972140940 | AT56: 7357950101 | AU56: 5953279157 | AV56: 80.90948 | AW56: 28.386607 | AX56: 14426014076 | AY56: 9294904373 | AZ56: 64.431549 | BA56: 72.706852 | BB56: 6367921126 | BC56: 5278708198 | BD56: 82.895314 | BE56: 97.876949 | BF56: 0.90521074 | BG56: 0.87386954 | BH56: 0.89267426 | BI56: Sobresaliente | BJ56: 0.90564133 | BK56: 0.85904494 | BL56: 0.88700277 | BM56: 9.2982381
... A101: San Juan De Urabá | B101: San juan de urabá/Antioquia | C101: Haciendo juntos podemos | D101: 240 | E101: 59 | F101: 24.583333 | G101: 7 | H101: 2.9166667 | I101: 7 | J101: 2.9166667 | K101: 281 | L101: 187 | M101: 172 | N101: 91.97861 | O101: 233 | P101: 210 | Q101: 90.128755 | R101: 212 | S101: 190 | T101: 89.622642 | U101: 99.905651 | V101: 99.817627 | W101: 99.870441 | X101: Sobresaliente | Y101: 99.298598 | Z101: 98.812066 | AA101: 99.103985 | AB101: Sobresaliente | AC101: 96.551132 | AD101: 96.379484 | AE101: 96.482473 | AF101: Sobresaliente | AG101: 18.055253 | AH101: 45.383413 | AI101: 28.986517 | AJ101: 38.297066 | AK101: 56.32083 | AL101: 45.506571 | AM101: 58.176182 | AN101: 63.264315 | AO101: 60.211435 | AP101: -555.86557 | AQ101: 52.310983 | AR101: 75.233835 | AS101: 1.7613888e+11 | AT101: 2.6654606e+10 | AU101: 2.6654606e+10 | AV101: 100 | AW101: 15.132721 | AX101: 2.9223816e+10 | AY101: 2.9223816e+10 | AZ101: 100 | BA101: 31.72407 | BB101: 3.5734175e+10 | BC101: 3.5734175e+10 | BD101: 100 | BE101: 52.01157 | BF101: 0.95624074 | BG101: 0.9625299 | BH101: 0.9587564 | BI101: Sobresaliente | BJ101: 0.61001016 | BK101: 0.65890556 | BL101: 0.62956832 | BM101: -3.9219979
A102: Sabaneta | B102: Sabaneta/Antioquia | C102: Sabaneta Ciudad Consciente | D102: 150 | E102: 39 | F102: 26 | G102: 40 | H102: 26.666667 | I102: 48 | J102: 32 | K102: 512 | L102: 442 | M102: 365 | N102: 82.579186 | O102: 466 | P102: 399 | Q102: 85.622318 | R102: 470 | S102: 404 | T102: 85.957447 | U102: 91.549734 | V102: 91.384785 | W102: 91.483754 | X102: Sobresaliente | Y102: 90.783389 | Z102: 92.591242 | AA102: 91.50653 | AB102: Sobresaliente | AC102: 68.078545 | AD102: 67.706818 | AE102: 67.929854 | AF102: Medio | AG102: 18.97861 | AH102: 32.539939 | AI102: 24.403141 | AJ102: 39.981629 | AK102: 48.267155 | AL102: 43.29584 | AM102: 60.773543 | AN102: 59.615631 | AO102: 60.310378 | AP102: 443.33775 | AQ102: 318.4609 | AR102: 3868.2065 | AS102: 515907568470 | AT102: 139054891316 | AU102: 104325750610 | AV102: 75.024869 | AW102: 20.221791 | AX102: 189403995984 | AY102: 135050789668 | AZ102: 71.303031 | BA102: 46.399114 | BB102: 3.428226e+11 | BC102: 2.1947503e+11 | BD102: 64.02 | BE102: 88.940655
A103: Amalfi | B103: Amalfi/Antioquia | C103: La Gran Alianza por Amalfi | D103: 80 | E103: 26 | F103: 32.5 | G103: 26 | H103: 32.5 | I103: 26 | J103: 32.5 | K103: 421 | L103: 305 | M103: 199 | N103: 65.245902 | O103: 379 | P103: 242 | Q103: 63.852243 | R103: 353 | S103: 280 | T103: 79.320113 | U103: 93.81406 | V103: 93.359607 | W103: 93.632279 | X103: Sobresaliente | Y103: 88.399176 | Z103: 85.730494 | AA103: 87.331703 | AB103: Sobresaliente | AC103: 95.359308 | AD103: 93.200263 | AE103: 94.49569 | AF103: Sobresaliente | AG103: 20.83557 | AH103: 31.32122 | AI103: 25.02983 | AJ103: 43.047305 | AK103: 50.712235 | AL103: 46.113277 | AM103: 66.251366 | AN103: 66.092808 | AO103: 66.187943 | AP103: 58.262856 | AQ103: 58.262856 | AR103: 58.262856 | AS103: 1.2338485e+11 | AT103: 28727830228 | AU103: 25672822729 | AV103: 89.365687 | AW103: 20.807111 | AX103: 39449052893 | AY103: 37345569562 | AZ103: 94.667848 | BA103: 51.074659 | BB103: 51699128444 | BC103: 51699128444 | BD103: 100 | BE103: 92.975368 | BF103: 0.95920979 | BG103: 0.96196775 | BH103: 0.96031297 | BI103: Sobresaliente | BJ103: 0.82488035 | BK103: 0.79437645 | BL103: 0.81267879 | BM103: 8568.6769
A104: Anorí | B104: Anorí/Antioquia | C104: Anorí , hechos para el cambio 2020-2023 | D104: 73 | E104: 20 | F104: 27.39726 | G104: 18 | H104: 24.657534 | I104: 19 | J104: 26.027397 | K104: 267 | L104: 152 | M104: 140 | N104: 92.105263 | O104: 219 | P104: 179 | Q104: 81.73516 | R104: 214 | S104: 169 | T104: 78.971963 | U104: 97.552948 | V104: 96.697996 | W104: 97.210967 | X104: Sobresaliente | Y104: 90.652971 | Z104: 86.014539 | AA104: 88.797598 | AB104: Sobresaliente | AC104: 97.334467 | AD104: 96.512586 | AE104: 97.005715 | AF104: Sobresaliente | AG104: 17.706174 | AH104: 34.625243 | AI104: 24.473802 | AJ104: 44.542746 | AK104: 62.377058 | AL104: 51.676471 | AM104: 64.299681 | AN104: 71.225365 | AO104: 67.069955 | AP104: 50326.231 | AQ104: 50845.895 | AR104: 51385.667 | AS104: 55404457431 | AT104: 1.6325982e+10 | AU104: 1.6325982e+10 | AV104: 100 | AW104: 29.46691 | AX104: 6363253833 | AY104: 6363255833 | AZ104: 100.00003 | BA104: 40.952007 | BB104: 1.1850015e+10 | BC104: 1.1850015e+10 | BD104: 100 | BE104: 62.340206 | BF104: 0.9991506 | BG104: 0.9991506 | BH104: 0.9991506 | BI104: Sobresaliente | BJ104: 0.85670135 | BK104: 0.7783924 | BL104: 0.82537777 | BM104: 495.71547
A105: Belmira | B105: Belmira/Antioquia | C105: Belmira es tiempo de volver avanzar | D105: 30 | E105: 7 | F105: 23.333333 | G105: 7 | H105: 23.333333 | I105: 7 | J105: 23.333333 | K105: 143 | L105: 122 | M105: 120 | N105: 98.360656 | O105: 133 | P105: 118 | Q105: 88.721805 | R105: 134 | S105: 122 | T105: 91.044776 | U105: 98.186158 | V105: 97.786651 | W105: 98.026355 | X105: Sobresaliente | Y105: 98.403047 | Z105: 98.059611 | AA105: 98.265673 | AB105: Sobresaliente | AC105: 95.762741 | AD105: 95.440362 | AE105: 95.633789 | AF105: Sobresaliente | AG105: 17.84501 | AH105: 31.493649 | AI105: 23.304466 | AJ105: 43.436974 | AK105: 53.353299 | AL105: 47.403504 | AM105: 69.321383 | AN105: 70.306621 | AO105: 69.715478 | AP105: 52.438332 | AQ105: 60.86747 | AR105: 59.433299 | AS105: 3.7450872e+10 | AT105: 9.1677862e+09 | AU105: 5847959993 | AV105: 63.788137 | AW105: 15.615017 | AX105: 1.2792589e+10 | AY105: 1.0155137e+10 | AZ105: 79.382969 | BA105: 42.730907 | BB105: 24425270955 | BC105: 17223904175 | BD105: 70.516737 | BE105: 88.721569 | BF105: 0.76069923 | BG105: 0.76063922 | BH105: 0.76067523 | BI105: Satisfactorio | BJ105: 0.96782355 | BK105: 0.85396751 | BL105: 0.92228113 | BM105: 1.0382291
A106: Briceño | B106: Briceño/Antioquia | C106: BRICEÑO, MOVILIZANDO IDEAS | D106: 151 | E106: 25 | F106: 16.556291 | G106: 29 | H106: 19.205298 | I106: 28 | J106: 18.543046 | K106: 179 | L106: 98 | M106: 74 | N106: 75.510204 | O106: 141 | P106: 101 | Q106: 71.631206 | R106: 141 | S106: 112 | T106: 79.432624 | U106: 0 | V106: 0 | W106: 0 | X106: Crítico | Y106: 79.379037 | Z106: 78.621295 | AA106: 79.07594 | AB106: Satisfactorio | AC106: 89.159913 | AD106: 87.770334 | AE106: 88.604082 | AF106: Sobresaliente | AG106: 13.537142 | AH106: 13.537142 | AI106: 13.537142 | AJ106: 33.134643 | AK106: 96.897934 | AL106: 58.639959 | AM106: 61.826961 | AN106: 97.955271 | AO106: 76.278285 | AP106: 81.16309 | AQ106: 168.08605 | AR106: 240.68151 | AS106: 634423205678 | AT106: 0 | AU106: 0 | AV106: 0 | AW106: 0 | AX106: 23621419415 | AY106: 17032835841 | AZ106: 72.107588 | BA106: 2.684775 | BB106: 19330802220 | BC106: 18780152318 | BD106: 97.151438 | BE106: 5.6449682 | BF106: 0.92353496 | BG106: 0.9235258 | BH106: 0.9235313 | BI106: Sobresaliente | BJ106: 0.91562616 | BK106: 0.86301423 | BL106: 0.89458139 | BM106: 0.60987481
A107: Anzá | B107: Anza/Antioquia | C107: Unidos ¡Por Anzá! 2020-2023 | D107: 65 | E107: 30 | F107: 46.153846 | G107: 30 | H107: 46.153846 | I107: 33 | J107: 50.769231 | K107: 143 | L107: 105 | M107: 81 | N107: 77.142857 | O107: 130 | P107: 87 | Q107: 66.923077 | R107: 113 | S107: 112 | T107: 99.115044 | U107: 98.39498 | V107: 98.268864 | W107: 98.344534 | X107: Sobresaliente | Y107: 96.785906 | Z107: 96.494449 | AA107: 96.669323 | AB107: Sobresaliente | AC107: 99.978146 | AD107: 99.787122 | AE107: 99.901736 | AF107: Sobresaliente | AG107: 19.38483 | AH107: 29.280316 | AI107: 23.343024 | AJ107: 41.893296 | AK107: 58.325364 | AL107: 48.466123 | AM107: 64.176152 | AN107: 79.93969 | AO107: 70.481567 | AP107: 4910.7369 | AQ107: 4910.7369 | AR107: 6730.9061 | AS107: 53017375657 | AT107: 8384847564 | AU107: 7593887950 | AV107: 90.566798 | AW107: 14.323395 | AX107: 12059720340 | AY107: 7796538480 | AZ107: 64.649414 | BA107: 29.029023 | BB107: 16077855526 | BC107: 13975176716 | BD107: 86.921895 | BE107: 55.38864 | BF107: 0.86014754 | BG107: 0.88726522 | BH107: 0.87099461 | BI107: Sobresaliente | BJ107: 0.82688667 | BK107: 0.88474993 | BL107: 0.85003198 | BM107: -10.297369
A108: Armenia | B108: Armenia/Antioquia | C108: "ARMENIA ES DE TODOS Y PARA TODOS" | D108: 99 | E108: 23 | F108: 23.232323 | G108: 21 | H108: 21.212121 | I108: 23 | J108: 23.232323 | K108: 99 | L108: 69 | M108: 57 | N108: 82.608696 | O108: 85 | P108: 43 | Q108: 50.588235 | R108: 86 | S108: 46 | T108: 53.488372 | U108: 96.773311 | V108: 96.208652 | W108: 96.547447 | X108: Sobresaliente | Y108: 39.022393 | Z108: 31.685597 | AA108: 36.087675 | AB108: Crítico | AC108: 90.330317 | AD108: 90.289399 | AE108: 90.31395 | AF108: Sobresaliente | AG108: 18.480969 | AH108: 22.889676 | AI108: 20.244452 | AJ108: 33.889269 | AK108: 28.075255 | AL108: 31.563663 | AM108: 57.646719 | AN108: 61.215373 | AO108: 59.074181 | AP108: 0.85832337 | AQ108: 14.224752 | AR108: 17.7834 | AS108: 2.6742648e+10 | AT108: 4944180889 | AU108: 4944180889 | AV108: 100 | AW108: 18.488 | AX108: 10298578126 | AY108: 10638578126 | AZ108: 103.30143 | BA108: 58.269319 | BB108: 8531682130 | BC108: 5503771500 | BD108: 64.509805 | BE108: 78.849822 | BF108: 0.79917329 | BG108: 0.79917329 | BH108: 0.79917329 | BI108: Satisfactorio | BJ108: 0.78854464 | BK108: 0.84192801 | BL108: 0.80989799 | BM108: 0.34963334
A109: Buriticá | B109: Buriticá/Antioquia | C109: Buriticá Hacia La Grandeza | D109: 51 | E109: 7 | F109: 13.72549 | G109: 7 | H109: 13.72549 | I109: 12 | J109: 23.529412 | K109: 189 | L109: 94 | M109: 90 | N109: 95.744681 | O109: 132 | P109: 131 | Q109: 99.242424 | R109: 163 | S109: 143 | T109: 87.730061 | U109: 94.379148 | V109: 94.379148 | W109: 94.379148 | X109: Sobresaliente | Y109: 97.918119 | Z109: 97.918119 | AA109: 97.918119 | AB109: Sobresaliente | AC109: 97.206286 | AD109: 96.28726 | AE109: 96.838676 | AF109: Sobresaliente | AG109: 1.1702071 | AH109: 1.0138392 | AI109: 1.1076599 | AJ109: 31.938303 | AK109: 89.687302 | AL109: 55.037902 | AM109: 64.104828 | AN109: 93.020514 | AO109: 75.671102 | AP109: 2.0815498 | AQ109: 2.0815498 | AR109: 7.9922824 | AS109: 1.6363386e+11 | AT109: 2655291417 | AU109: 2605291417 | AV109: 98.116968 | AW109: 1.5921469 | AX109: 3852286409 | AY109: 3852186409 | AZ109: 99.997404 | BA109: 3.9462968 | BB109: 4869592574 | BC109: 4789492574 | BD109: 98.355099 | BE109: 6.8732537 | BF109: 0.96232373 | BG109: 0.95911637 | BH109: 0.96104079 | BI109: Sobresaliente | BJ109: 0.9960357 | BK109: 0.97731643 | BL109: 0.98854799 | BM109: 0.98632913
A110: Cañasgordas | B110: Cañasgordas/Antioquia | C110: CAÑASGORDAS SOMOS TODOS, UN PACTO POR LA UNIDAD | D110: 41 | E110: 12 | F110: 29.268293 | G110: 16 | H110: 39.02439 | I110: 17 | J110: 41.463415 | K110: 238 | L110: 131 | M110: 123 | N110: 93.89313 | O110: 203 | P110: 165 | Q110: 81.280788 | R110: 196 | S110: 167 | T110: 85.204082 | U110: 93.24367 | V110: 92.727013 | W110: 93.037007 | X110: Sobresaliente | Y110: 97.972404 | Z110: 96.817836 | AA110: 97.510577 | AB110: Sobresaliente | AC110: 84.399174 | AD110: 74.047579 | AE110: 80.258536 | AF110: Sobresaliente | AG110: 23.163945 | AH110: 25.254163 | AI110: 24.000032 | AJ110: 49.283332 | AK110: 51.264467 | AL110: 50.075786 | AM110: 71.316066 | AN110: 66.644152 | AO110: 69.447301 | AP110: 19.1163 | AQ110: 126.16356 | AR110: 219.4563 | AS110: 6669840285 | AT110: 0 | AU110: 7061677613 | AV110: 100 | AW110: 105.87476 | AX110: 0 | AY110: 995188125 | AZ110: 100 | BA110: 120.79548 | BB110: 0 | BC110: 1094085405 | BD110: 100 | BE110: 137.19895 | BF110: 0.69293439 | BG110: 0.67113399 | BH110: 0.68421423 | BI110: Medio | BJ110: 0.9064114 | BK110: 0.75494684 | BL110: 0.84582558 | BM110: 0.015184077
A111: Dabeiba | B111: Dabeiba/Antioquia | C111: Unidos por Dabeiba | D111: 59 | E111: 13 | F111: 22.033898 | G111: 13 | H111: 22.033898 | I111: 33 | J111: 55.932203 | K111: 205 | L111: 198 | M111: 75 | N111: 37.878788 | O111: 198 | P111: 180 | Q111: 90.909091 | R111: 199 | S111: 172 | T111: 86.432161 | U111: 94.933405 | V111: 93.862288 | W111: 94.504958 | X111: Sobresaliente | Y111: 99.002731 | Z111: 98.500449 | AA111: 98.801818 | AB111: Sobresaliente | AC111: 97.286351 | AD111: 92.702779 | AE111: 95.452922 | AF111: Sobresaliente | AG111: 15.256455 | AH111: 60.083925 | AI111: 33.187443 | AJ111: 39.851806 | AK111: 66.734494 | AL111: 50.604881 | AM111: 64.170354 | AN111: 73.885357 | AO111: 68.056355 | AP111: 39.628691 | AQ111: 39.628691 | AR111: 88.363282 | AS111: 1.1744328e+11 | AT111: 2.4177785e+09 | AU111: 2.4177785e+09 | AV111: 100 | AW111: 2.0586776 | AX111: 2.7987734e+10 | AY111: 2.704586e+10 | AZ111: 96.634688 | BA111: 25.087547 | BB111: 4.3621185e+10 | BC111: 5.488956e+10 | BD111: 125.83235 | BE111: 71.824627 | BF111: 0.83862199 | BG111: 0.79161901 | BH111: 0.81982079 | BI111: Sobresaliente | BJ111: 0.87183737 | BK111: 0.83233122 | BL111: 0.85603491 | BM111: 0.86581814
A112: Heliconia | B112: Heliconia/Antioquia | C112: EN HELICONIA SOMOS MÁS, UNIDOS | D112: 20 | E112: 5 | F112: 25 | G112: 11 | H112: 55 | I112: 13 | J112: 65 | K112: 173 | L112: 72 | M112: 71 | N112: 98.611111 | O112: 113 | P112: 98 | Q112: 86.725664 | R112: 164 | S112: 139 | T112: 84.756098 | U112: 100 | V112: 99.99053 | W112: 99.996212 | X112: Sobresaliente | Y112: 97.033224 | Z112: 97.00311 | AA112: 97.021178 | AB112: Sobresaliente | AC112: 97.03499 | AD112: 95.652114 | AE112: 96.48184 | AF112: Sobresaliente | AG112: 12.174504 | AH112: 32.911139 | AI112: 20.469158 | AJ112: 31.600371 | AK112: 47.493559 | AL112: 37.957646 | AM112: 67.462998 | AN112: 77.589163 | AO112: 71.513464 | AP112: 319.51466 | AQ112: 530.19456 | AR112: 537.7523 | AS112: 1.36968e+10 | AT112: 0 | AU112: 6000000 | AV112: 100.01 | AW112: 0.043805852 | AX112: 0 | AY112: 0 | AZ112: 100.21476 | BA112: 0.043805852 | BB112: 0 | BC112: 95400000 | BD112: 99.692628 | BE112: 0.74031889 | BF112: 0.98380817 | BG112: 0.9741746 | BH112: 0.97995474 | BI112: Sobresaliente | BJ112: 0.89713373 | BK112: 0.8788921 | BL112: 0.88983708 | BM112: 2.6220432
A113: Abejorral | B113: Abejorral/Antioquia | C113: Abejorral, Es el Momento 2020-2023 | D113: 88 | E113: 29 | F113: 32.954545 | G113: 35 | H113: 39.772727 | I113: 42 | J113: 47.727273 | K113: 188 | L113: 117 | M113: 117 | N113: 100 | O113: 143 | P113: 137 | Q113: 95.804196 | R113: 154 | S113: 154 | T113: 100 | U113: 100 | V113: 100 | W113: 100 | X113: Sobresaliente | Y113: 89.714628 | Z113: 82.698201 | AA113: 86.908058 | AB113: Sobresaliente | AC113: 99.450699 | AD113: 99.450699 | AE113: 99.450699 | AF113: Sobresaliente | AG113: 23.714962 | AH113: 23.911437 | AI113: 23.793552 | AJ113: 49.602942 | AK113: 87.90407 | AL113: 64.923393 | AM113: 75.776224 | AN113: 94.324115 | AO113: 83.195381 | AP113: 15.298517 | AQ113: 49.527447 | AR113: 78.036693 | AS113: 80245619289 | AT113: 19039767931 | AU113: 19039767931 | AV113: 100 | AW113: 23.726863 | AX113: 2.0358593e+10 | AY113: 2.0358593e+10 | AZ113: 100 | BA113: 49.097211 | BB113: 30857411988 | BC113: 30851175095 | BD113: 99.979788 | BE113: 87.543141 | BF113: 0.89910001 | BG113: 0.89822186 | BH113: 0.89874875 | BI113: Sobresaliente | BJ113: 0.99296842 | BK113: 0.96049342 | BL113: 0.97997842 | BM113: -1.37163
A114: Alejandría | B114: Alejandría/Antioquia | C114: UNIDOS POR ALEJANDRIA CONSTRUYENDO TERRITORIO | D114: 111 | E114: 13 | F114: 11.711712 | G114: 13 | H114: 11.711712 | I114: 13 | J114: 11.711712 | K114: 133 | L114: 71 | M114: 68 | N114: 95.774648 | O114: 102 | P114: 85 | Q114: 83.333333 | R114: 111 | S114: 92 | T114: 82.882883 | U114: 99.922658 | V114: 100 | W114: 99.953595 | X114: Sobresaliente | Y114: 99.516156 | Z114: 99.502123 | AA114: 99.510543 | AB114: Sobresaliente | AC114: 91.726449 | AD114: 91.716902 | AE114: 91.72263 | AF114: Sobresaliente | AG114: 20.435343 | AH114: 29.761707 | AI114: 24.165889 | AJ114: 47.860722 | AK114: 56.024877 | AL114: 51.126384 | AM114: 71.420003 | AN114: 70.58175 | AO114: 71.084702 | AP114: 149.83042 | AQ114: 130.61901 | AR114: 154.56483 | AS114: 29466333972 | AT114: 8507617930 | AU114: 6096565574 | AV114: 71.660077 | AW114: 20.689936 | AX114: 16526502793 | AY114: 12358265066 | AZ114: 74.778465 | BA114: 62.630223 | BB114: 13797358420 | BC114: 9959837025 | BD114: 72.18655 | BE114: 96.430956 | BF114: 0.98917402 | BG114: 0.98917402 | BH114: 0.98917402 | BI114: Sobresaliente | BJ114: 0.9457059 | BK114: 0.82330293 | BL114: 0.89674471 | BM114: -0.30757021
... A122: Barbosa | B122: Barbosa/Antioquia | C122: Barbosa Social ¡Es la Gente! | D122: 93 | E122: 19 | F122: 20.430108 | G122: 19 | H122: 20.430108 | I122: 19 | J122: 20.430108 | K122: 576 | L122: 390 | M122: 297 | N122: 76.153846 | O122: 466 | P122: 314 | Q122: 67.381974 | R122: 496 | S122: 357 | T122: 71.975806 | U122: 97.979579 | V122: 98.23323 | W122: 98.081039 | X122: Sobresaliente | Y122: 80.340918 | Z122: 83.742412 | AA122: 81.701515 | AB122: Sobresaliente | AC122: 82.348377 | AD122: 83.186417 | AE122: 82.683593 | AF122: Sobresaliente | AG122: 22.239028 | AH122: 33.547447 | AI122: 26.762395 | AJ122: 47.690141 | AK122: 61.952934 | AL122: 53.395258 | AM122: 65.657623 | AN122: 79.253821 | AO122: 71.096102 | AP122: -1801.3803 | AQ122: -850.69016 | AR122: -850.69016 | AS122: 2.1593001e+11 | AT122: 5.2492296e+10 | AU122: 35929544140 | AV122: 68.447271 | AW122: 16.639439 | AX122: 7.5611881e+10 | AY122: 3.9691521e+10 | AZ122: 52.493762 | BA122: 35.021099 | BB122: 71202761866 | BC122: 53683567023 | BD122: 75.395344 | BE122: 59.882658 | BF122: 0.68352289 | BG122: 0.99158803 | BH122: 0.80674895 | BI122: Sobresaliente | BJ122: 0.67835537 | BK122: 0.80105499 | BL122: 0.72743522 | BM122: 1

Sheet Visor
B1: MUNICIPIO | H1: PLAN DE DESARROLLO | O1: CUATRIENIO | Q1: VIGENCIA EVALUADA
B2: Uramita | H2: =VLOOKUP(B2,BD!A2:BE122,3,FALSE) -> Por un Nuevo Uramita | O2: 2020-2023 | Q2: 2023
B4: EJECUCIÓN DEL PLAN DE ACCION | I4: EJECUCION DEL PLAN DE DESARROLLO | P4: EFECTIVIDAD
B6: 2020 | C6: 2021 | D6: 2022 | E6: 2023 | I6: 2020 | J6: 2021 | K6: 2022 | L6: 2023 | P6: 2020 | Q6: 2021 | R6: 2022 | S6: 2023
A7: EFICACIA | B7: =VLOOKUP(B2,BD!A2:BE122,21,FALSE) -> 95.415435 | C7: =VLOOKUP(B2,BD!A2:BE122,25,FALSE) -> 90.898512 | D7: =VLOOKUP(B2,BD!A2:BE122,29,FALSE) -> 79.061945 | E7: =VLOOKUP(B2,BD!A1:BM122,58,FALSE)*100 -> 99.187234 | H7: EFICACIA | I7: =VLOOKUP(B2,BD!A2:BE122,33,FALSE) -> 21.868682 | J7: =VLOOKUP(B2,BD!A2:BE122,36,FALSE) -> 46.830772 | K7: =VLOOKUP(B2,BD!A2:BE122,39,FALSE) -> 74.267558 | L7: =VLOOKUP(B2,BD!A1:BM122,62,FALSE)*100 -> 97.65916 | O7: EFECTIVIDAD | P7: =VLOOKUP(B2,BD!A2:BE122,42,FALSE) -> 31.327002 | Q7: =VLOOKUP(B2,BD!A2:BE122,43,FALSE) -> 31.327002 | R7: =VLOOKUP(B2,BD!A2:BE122,44,FALSE) -> 31.327002 | S7: =VLOOKUP(B2,BD!A1:BM122,65,FALSE) -> -11.990056
A8: EFICIENCIA | B8: =VLOOKUP(B2,BD!A2:BE122,22,FALSE) -> 95.374211 | C8: =VLOOKUP(B2,BD!A2:BE122,26,FALSE) -> 91.346434 | D8: =VLOOKUP(B2,BD!A2:BE122,30,FALSE) -> 92.073348 | E8: =VLOOKUP(B2,BD!A2:BM122,59,FALSE)*100 -> 99.277373 | H8: EFICIENCIA | I8: =VLOOKUP(B2,BD!A2:BE122,34,FALSE) -> 22.138079 | J8: =VLOOKUP(B2,BD!A2:BE122,37,FALSE) -> 44.916385 | K8: =VLOOKUP(B2,BD!A2:BE122,40,FALSE) -> 58.751418 | L8: =VLOOKUP(B2,BD!A2:BM123,63,FALSE)*100 -> 73.855719
A9: CUMPLIMIENTO | B9: =VLOOKUP(B2,BD!A2:BE122,23,FALSE) -> 95.398945 | C9: =VLOOKUP(B2,BD!A1:BE122,27,FALSE) -> 91.077681 | D9: =VLOOKUP(B2,BD!A2:BE122,31,FALSE) -> 84.266506 | E9: =VLOOKUP(B2,BD!A1:BM122,60,FALSE)*100 -> 99.223289 | H9: CUMPLIMIENTO | I9: =VLOOKUP(B2,BD!A2:BE122,35,FALSE) -> 21.976441 | J9: =VLOOKUP(B2,BD!A2:BE122,38,FALSE) -> 46.065017 | K9: =VLOOKUP(B2,BD!A2:BE122,41,FALSE) -> 68.061102 | L9: =VLOOKUP(B2,BD!A1:BM122,64,FALSE)*100 -> 88.137784
D19: 2020 | E19: =IF(B9<40, "Crítico", IF(B9<60, "Bajo", IF(B9<70,"Medio", IF(B9<80, "Satisfactorio", "Sobresaliente") ) ) ) -> Sobresaliente
D20: 2021 | E20: =IF(C9<40, "Crítico", IF(C9<60, "Bajo", IF(C9<70,"Medio", IF(C9<80, "Satisfactorio", "Sobresaliente") ) ) ) -> Sobresaliente
D21: 2022 | E21: =IF(D9<40, "Crítico", IF(D9<60, "Bajo", IF(D9<70,"Medio", IF(D9<80, "Satisfactorio", "Sobresaliente") ) ) ) -> Sobresaliente
D22: 2023 | E22: =IF(D9<40, "Crítico", IF(D9<60, "Bajo", IF(D9<70,"Medio", IF(D9<80, "Satisfactorio", "Sobresaliente") ) ) ) -> Sobresaliente

Sheet mapa
E1: Información
E2: Instructivo
H4: ITEM | I4: Nombre | J4: Subregión | L4: ITEM | M4: Nombre | N4: Subregión | P4: ITEM | Q4: Nombre | R4: Subregión
H5: 1 | I5: Cáceres | J5: Bajo Cauca | L5: 44 | M5: Buriticá | N5: Occidente | P5: 87 | Q5: Ciudad Bolívar | R5: Suroeste
H6: 2 | I6: Caucasia | J6: Bajo Cauca | L6: 45 | M6: Caicedo | N6: Occidente | P6: 88 | Q6: Concordia | R6: Suroeste
H7: 3 | I7: El Bagre | J7: Bajo Cauca | L7: 46 | M7: Cañasgordas | N7: Occidente | P7: 89 | Q7: Fredonia | R7: Suroeste
H8: 4 | I8: Nechí | J8: Bajo Cauca | L8: 47 | M8: Dabeiba | N8: Occidente | P8: 90 | Q8: Hispania | R8: Suroeste
H9: 5 | I9: Tarazá | J9: Bajo Cauca | L9: 48 | M9: Ebéjico | N9: Occidente | P9: 91 | Q9: Jardín | R9: Suroeste
H10: 6 | I10: Zaragoza | J10: Bajo Cauca | L10: 49 | M10: Frontino | N10: Occidente | P10: 92 | Q10: Jericó | R10: Suroeste
H11: 7 | I11: Caracolí | J11: Magdalena Medio | L11: 50 | M11: Giraldo | N11: Occidente | P11: 93 | Q11: La Pintada | R11: Suroeste
H12: 8 | I12: Maceo | J12: Magdalena Medio | L12: 51 | M12: Heliconia | N12: Occidente | P12: 94 | Q12: Montebello | R12: Suroeste
H13: 9 | I13: Puerto Berrío | J13: Magdalena Medio | L13: 52 | M13: Liborina | N13: Occidente | P13: 95 | Q13: Pueblorrico | R13: Suroeste
H14: 10 | I14: Puerto Nare | J14: Magdalena Medio | L14: 53 | M14: Olaya | N14: Occidente | P14: 96 | Q14: Salgar | R14: Suroeste
H15: 11 | I15: Puerto Triunfo | J15: Magdalena Medio | L15: 54 | M15: Peque | N15: Occidente | P15: 97 | Q15: Santa Bárbara | R15: Suroeste
H16: 12 | I16: Yondó | J16: Magdalena Medio | L16: 55 | M16: Sabanalarga | N16: Occidente | P16: 98 | Q16: Támesis | R16: Suroeste
... H38: 34 | I38: San José de la Montaña | J38: Norte | L38: 77 | M38: San Luis | N38: Oriente | P38: 120 | Q38: Sabaneta | R38: Valle de Aburrá
H39: 35 | I39: San Pedro de los Milagros | J39: Norte | L39: 78 | M39: San Rafael | N39: Oriente | P39: 121 | Q39: Departamento de Antioquia
H40: 36 | I40: Santa Rosa de Osos | J40: Norte | L40: 79 | M40: San Vicente | N40: Oriente
H41: 37 | I41: Toledo | J41: Norte | L41: 80 | M41: Sonsón | N41: Oriente
H42: 38 | I42: Valdivia | J42: Norte | L42: 81 | M42: Amagá | N42: Suroeste
H43: 39 | I43: Yarumal | J43: Norte | L43: 82 | M43: Andes | N43: Suroeste
H44: 40 | I44: Abriaquí | J44: Occidente | L44: 83 | M44: Angelópolis | N44: Suroeste
H45: 41 | I45: Santa Fe de Antioquia | J45: Occidente | L45: 84 | M45: Betania | N45: Suroeste
H46: 42 | I46: Anzá | J46: Occidente | L46: 85 | M46: Betulia | N46: Suroeste
H47: 43 | I47: Armenia | J47: Occidente | L47: 86 | M47: Caramanta | N47: Suroeste

Sheet Instructivo
A1: CONCEPTO | B1: DESCRIPCIÓN | C1: FUENTE
A2: EFICACIA | B2: Operacionalmente, la eficacia es el grado en que se alcanzan los objetivos y metas del proyecto en la población beneficiaria, en un periodo determinado, independiente de los costos que ello implique. | C2: Cohen y Franco (1992)
A3: EFICIENCIA | B3: El concepto de eficiencia puede considerarse desde dos perspectivas complementarias: si la cantidad de producto está predeterminada, se persigue minimizar el costo total o medio que se requiere para generarlo; si el gasto total está fijado de antemano, se busca optimizar la combinación de insumos para maximizar el producto. | C3: Cohen y Franco (1992)
A4: EFECTIVIDAD | B4: Es aquella que cuantifica los efectos relacionados con la intervención pública; comparan cuantitativa o cualitativamente los objetivos planificados y resultados logrados, por ende, son indicadores que muestran el beneficio inmediato de la implementación del proyecto. | C4: (DNP, 2018)
A5: PLAN DE DESARROLLO MUNICIPAL | B5: Es el instrumento de planificación que orienta las acciones de las administraciones departamentales, distritales y municipales durante un período de gobierno. | C5: DNP
A6: PLAN DE ACCION | B6: El Plan de Acción es un instrumento de micro gerencia que facilita la planeación estratégica de las entidades territoriales y sus respectivas dependencias, orientando los procesos, instrumentos y recursos disponibles (humanos, financieros, físicos, tecnológicos e institucionales) que deben gestionarse durante una vigencia fiscal para el cumplimiento de las metas, proyectos y actividades de la entidad territorial. | C6: DNP, Kit Financiero plan de accion
A7: RANGO DE CUMPLIMIENTO | B7: Sobresaliente ≥ 80% | C7: Contraloría General de Antioquia (2023)
B8: Satisfactorio < 80% y ≥ 70%
B9: Medio < 70% y ≥ 60%
B10: Bajo < 60% y ≥ 40%
B11: Critico < 40%
A14: CONCEPTO | B14: FORMULA
A16: Eficacia plan de acción
A19: Eficacia plan de desarrollo
A24: Eficiencia del plan de acción
A30: Eficiencia del plan de desarrollo
A35: Efectividad
A39: Efectividad en metas de mantenimiento cuando el indicador es de “Incrementar"
A45: Efectividad en metas de mantenimiento cuando el indicador es de “Reducir"
